BEGIN:VCALENDAR
VERSION:2.0
PRODID:-//Portal Super Padel - ECPv6.15.20//NONSGML v1.0//EN
CALSCALE:GREGORIAN
METHOD:PUBLISH
X-ORIGINAL-URL:https://superpadel.com.br
X-WR-CALDESC:Eventos para Portal Super Padel
REFRESH-INTERVAL;VALUE=DURATION:PT1H
X-Robots-Tag:noindex
X-PUBLISHED-TTL:PT1H
BEGIN:VTIMEZONE
TZID:America/Sao_Paulo
BEGIN:STANDARD
TZOFFSETFROM:-0300
TZOFFSETTO:-0300
TZNAME:-03
DTSTART:20230101T000000
END:STANDARD
END:VTIMEZONE
BEGIN:VEVENT
DTSTART;VALUE=DATE:20240607
DTEND;VALUE=DATE:20240610
DTSTAMP:20260424T025658
CREATED:20240602T162357Z
LAST-MODIFIED:20240602T163738Z
UID:10000468-1717718400-1717977599@superpadel.com.br
SUMMARY:Copa Óticas Carol de Padel - 1ª Etapa
DESCRIPTION:Copa Óticas Carol de Padel – 1ª Etapa
URL:https://superpadel.com.br/agenda/copa-oticas-carol-de-padel-1a-etapa/
LOCATION:Central Padel\, R. Lauro Muller\, n. 1317 - Fazenda\, Itajaí\, Santa Catarina\, 88301-401\, Brasil
CATEGORIES:Eventos,Regional
ATTACH;FMTTYPE=image/jpeg:https://superpadel.com.br/wp-content/uploads/2024/06/Snapinsta.app_443845473_18139920688325336_7679377947957340766_n_1080.jpg
END:VEVENT
END:VCALENDAR