BEGIN:VCALENDAR
VERSION:2.0
PRODID:-//Portal Super Padel - ECPv6.15.20//NONSGML v1.0//EN
CALSCALE:GREGORIAN
METHOD:PUBLISH
X-WR-CALNAME:Portal Super Padel
X-ORIGINAL-URL:https://superpadel.com.br
X-WR-CALDESC:Eventos para Portal Super Padel
REFRESH-INTERVAL;VALUE=DURATION:PT1H
X-Robots-Tag:noindex
X-PUBLISHED-TTL:PT1H
BEGIN:VTIMEZONE
TZID:America/Sao_Paulo
BEGIN:STANDARD
TZOFFSETFROM:-0300
TZOFFSETTO:-0300
TZNAME:-03
DTSTART:20230101T000000
END:STANDARD
END:VTIMEZONE
BEGIN:VEVENT
DTSTART;VALUE=DATE:20240617
DTEND;VALUE=DATE:20240624
DTSTAMP:20260424T025624
CREATED:20240617T152706Z
LAST-MODIFIED:20240617T152706Z
UID:10000470-1718582400-1719187199@superpadel.com.br
SUMMARY:Premier Padel Italy Major 2024
DESCRIPTION:Premier Padel Italy Major 2024
URL:https://superpadel.com.br/agenda/premier-padel-italy-major-2024/
LOCATION:Itália\, Sardegna\, Itália
CATEGORIES:Internacional,Premier Padel Tour
ATTACH;FMTTYPE=image/png:https://superpadel.com.br/wp-content/uploads/2024/06/italy.png
END:VEVENT
END:VCALENDAR