BEGIN:VCALENDAR
VERSION:2.0
PRODID:-//Portal Super Padel - ECPv6.15.20//NONSGML v1.0//EN
CALSCALE:GREGORIAN
METHOD:PUBLISH
X-WR-CALNAME:Portal Super Padel
X-ORIGINAL-URL:https://superpadel.com.br
X-WR-CALDESC:Eventos para Portal Super Padel
REFRESH-INTERVAL;VALUE=DURATION:PT1H
X-Robots-Tag:noindex
X-PUBLISHED-TTL:PT1H
BEGIN:VTIMEZONE
TZID:America/Sao_Paulo
BEGIN:STANDARD
TZOFFSETFROM:-0300
TZOFFSETTO:-0300
TZNAME:-03
DTSTART:20230101T000000
END:STANDARD
END:VTIMEZONE
BEGIN:VEVENT
DTSTART;VALUE=DATE:20240719
DTEND;VALUE=DATE:20240722
DTSTAMP:20260424T013327
CREATED:20240612T114755Z
LAST-MODIFIED:20240612T114755Z
UID:10000469-1721347200-1721606399@superpadel.com.br
SUMMARY:Four Elas
DESCRIPTION:Four Elas – Squadra Padel e Fomera Padel \nClique aqui para ler notícia sobre o evento.
URL:https://superpadel.com.br/agenda/four-elas/
LOCATION:Santa Maria – RS\, Santa Maria\, Rio Grande do Sul\, 97070-795\, Brasil
CATEGORIES:Feminino,Regional
ATTACH;FMTTYPE=image/jpeg:https://superpadel.com.br/wp-content/uploads/2024/06/Snapinsta.app_447864460_799266148938108_41378246833651701_n_1080.jpg
END:VEVENT
END:VCALENDAR