BEGIN:VCALENDAR
VERSION:2.0
PRODID:-//Portal Super Padel - ECPv6.15.20//NONSGML v1.0//EN
CALSCALE:GREGORIAN
METHOD:PUBLISH
X-ORIGINAL-URL:https://superpadel.com.br
X-WR-CALDESC:Eventos para Portal Super Padel
REFRESH-INTERVAL;VALUE=DURATION:PT1H
X-Robots-Tag:noindex
X-PUBLISHED-TTL:PT1H
BEGIN:VTIMEZONE
TZID:America/Sao_Paulo
BEGIN:STANDARD
TZOFFSETFROM:-0300
TZOFFSETTO:-0300
TZNAME:-03
DTSTART:20230101T000000
END:STANDARD
END:VTIMEZONE
BEGIN:VEVENT
DTSTART;VALUE=DATE:20240902
DTEND;VALUE=DATE:20240909
DTSTAMP:20260423T052927
CREATED:20240806T003617Z
LAST-MODIFIED:20240806T005203Z
UID:10000477-1725235200-1725839999@superpadel.com.br
SUMMARY:Premier Padel Comunidad de Madrid P1 2024
DESCRIPTION:Premier Padel Comunidad de Madrid P1
URL:https://superpadel.com.br/agenda/premier-padel-comunidad-de-madrid-p1-2024/
LOCATION:Madri\, Espanha
CATEGORIES:Internacional,Premier Padel Tour
ATTACH;FMTTYPE=image/png:https://superpadel.com.br/wp-content/uploads/2024/08/madrid.png
END:VEVENT
BEGIN:VEVENT
DTSTART;VALUE=DATE:20240906
DTEND;VALUE=DATE:20240909
DTSTAMP:20260423T052927
CREATED:20240806T003231Z
LAST-MODIFIED:20240806T005133Z
UID:10000476-1725580800-1725839999@superpadel.com.br
SUMMARY:13º Delta Padel Open 2024
DESCRIPTION:13º Delta Padel Open
URL:https://superpadel.com.br/agenda/13o-delta-padel-open-2024/
LOCATION:Delta Padel\, R. Antônio Lopes Gonçalves Bastos\, 1043 - Rodovia SC 102\, Camboriú\, Santa catarina\, 88343-412\, Brasil
CATEGORIES:Eventos,Feminino,Masculino,Misto,Regional
ATTACH;FMTTYPE=image/jpeg:https://superpadel.com.br/wp-content/uploads/2024/08/CARTAZ-13-Delta-Open.jpg
END:VEVENT
BEGIN:VEVENT
DTSTART;VALUE=DATE:20240906
DTEND;VALUE=DATE:20240909
DTSTAMP:20260423T052927
CREATED:20240806T005025Z
LAST-MODIFIED:20240806T005025Z
UID:10000481-1725580800-1725839999@superpadel.com.br
SUMMARY:BPT Camboriú Open 2024
DESCRIPTION:BPT Camboriú Open 2024
URL:https://superpadel.com.br/agenda/bpt-camboriu-open-2024/
LOCATION:Delta Padel\, R. Antônio Lopes Gonçalves Bastos\, 1043 - Rodovia SC 102\, Camboriú\, Santa catarina\, 88343-412\, Brasil
CATEGORIES:Brasil Padel Tour,Nacional
ATTACH;FMTTYPE=image/png:https://superpadel.com.br/wp-content/uploads/2024/08/bpt.png
END:VEVENT
BEGIN:VEVENT
DTSTART;VALUE=DATE:20240908
DTEND;VALUE=DATE:20240916
DTSTAMP:20260423T052927
CREATED:20240806T003853Z
LAST-MODIFIED:20240806T005120Z
UID:10000478-1725753600-1726444799@superpadel.com.br
SUMMARY:Premier Padel Rotterdam P1 2024
DESCRIPTION:Premier Padel Rotterdam P1
URL:https://superpadel.com.br/agenda/premier-padel-rotterdam-p1-2024/
LOCATION:Holanda\, Holanda
CATEGORIES:Internacional,Premier Padel Tour
ATTACH;FMTTYPE=image/png:https://superpadel.com.br/wp-content/uploads/2024/08/rotterdam.png
END:VEVENT
END:VCALENDAR