BEGIN:VCALENDAR
VERSION:2.0
PRODID:-//Portal Super Padel - ECPv6.15.20//NONSGML v1.0//EN
CALSCALE:GREGORIAN
METHOD:PUBLISH
X-ORIGINAL-URL:https://superpadel.com.br
X-WR-CALDESC:Eventos para Portal Super Padel
REFRESH-INTERVAL;VALUE=DURATION:PT1H
X-Robots-Tag:noindex
X-PUBLISHED-TTL:PT1H
BEGIN:VTIMEZONE
TZID:America/Sao_Paulo
BEGIN:STANDARD
TZOFFSETFROM:-0300
TZOFFSETTO:-0300
TZNAME:-03
DTSTART:20230101T000000
END:STANDARD
END:VTIMEZONE
BEGIN:VEVENT
DTSTART;VALUE=DATE:20240908
DTEND;VALUE=DATE:20240916
DTSTAMP:20260422T225034
CREATED:20240806T003853Z
LAST-MODIFIED:20240806T005120Z
UID:10000478-1725753600-1726444799@superpadel.com.br
SUMMARY:Premier Padel Rotterdam P1 2024
DESCRIPTION:Premier Padel Rotterdam P1
URL:https://superpadel.com.br/agenda/premier-padel-rotterdam-p1-2024/
LOCATION:Holanda\, Holanda
CATEGORIES:Internacional,Premier Padel Tour
ATTACH;FMTTYPE=image/png:https://superpadel.com.br/wp-content/uploads/2024/08/rotterdam.png
END:VEVENT
END:VCALENDAR