BEGIN:VCALENDAR
VERSION:2.0
PRODID:-//Portal Super Padel - ECPv6.15.20//NONSGML v1.0//EN
CALSCALE:GREGORIAN
METHOD:PUBLISH
X-ORIGINAL-URL:https://superpadel.com.br
X-WR-CALDESC:Eventos para Portal Super Padel
REFRESH-INTERVAL;VALUE=DURATION:PT1H
X-Robots-Tag:noindex
X-PUBLISHED-TTL:PT1H
BEGIN:VTIMEZONE
TZID:America/Sao_Paulo
BEGIN:STANDARD
TZOFFSETFROM:-0300
TZOFFSETTO:-0300
TZNAME:-03
DTSTART:20230101T000000
END:STANDARD
END:VTIMEZONE
BEGIN:VEVENT
DTSTART;VALUE=DATE:20241115
DTEND;VALUE=DATE:20241125
DTSTAMP:20260421T203240
CREATED:20241119T150234Z
LAST-MODIFIED:20241119T150234Z
UID:10000499-1731628800-1732492799@superpadel.com.br
SUMMARY:A1 Padel Salta Master 2024
DESCRIPTION:A1 Padel Salta Master 2024
URL:https://superpadel.com.br/agenda/a1-padel-salta-master-2024/
LOCATION:Argentina\, Argentina
CATEGORIES:A1 Padel,Internacional
ATTACH;FMTTYPE=image/jpeg:https://superpadel.com.br/wp-content/uploads/2024/11/a1.jpg
END:VEVENT
END:VCALENDAR