BEGIN:VCALENDAR
VERSION:2.0
PRODID:-//Portal Super Padel - ECPv6.15.20//NONSGML v1.0//EN
CALSCALE:GREGORIAN
METHOD:PUBLISH
X-WR-CALNAME:Portal Super Padel
X-ORIGINAL-URL:https://superpadel.com.br
X-WR-CALDESC:Eventos para Portal Super Padel
REFRESH-INTERVAL;VALUE=DURATION:PT1H
X-Robots-Tag:noindex
X-PUBLISHED-TTL:PT1H
BEGIN:VTIMEZONE
TZID:America/Sao_Paulo
BEGIN:STANDARD
TZOFFSETFROM:-0300
TZOFFSETTO:-0300
TZNAME:-03
DTSTART:20230101T000000
END:STANDARD
END:VTIMEZONE
BEGIN:VEVENT
DTSTART;VALUE=DATE:20241130
DTEND;VALUE=DATE:20241209
DTSTAMP:20260421T191720
CREATED:20241119T150903Z
LAST-MODIFIED:20241119T150903Z
UID:10000501-1732924800-1733702399@superpadel.com.br
SUMMARY:Premier Padel Milano P1 2024
DESCRIPTION:Premier Padel Milano P1 2024
URL:https://superpadel.com.br/agenda/premier-padel-milano-p1-2024/
LOCATION:Milão\, Itália
CATEGORIES:Internacional,Premier Padel Tour
ATTACH;FMTTYPE=image/jpeg:https://superpadel.com.br/wp-content/uploads/2024/11/milano.jpg
END:VEVENT
BEGIN:VEVENT
DTSTART;VALUE=DATE:20241202
DTEND;VALUE=DATE:20241209
DTSTAMP:20260421T191720
CREATED:20241125T110042Z
LAST-MODIFIED:20241125T110042Z
UID:10000503-1733097600-1733702399@superpadel.com.br
SUMMARY:A1 Padel San Juan Open 2024
DESCRIPTION:A1 Padel San Juan Open 2024
URL:https://superpadel.com.br/agenda/a1-padel-san-juan-open-2024/
LOCATION:Argentina\, Argentina
CATEGORIES:A1 Padel,Internacional
ATTACH;FMTTYPE=image/jpeg:https://superpadel.com.br/wp-content/uploads/2024/11/a1-1.jpg
END:VEVENT
BEGIN:VEVENT
DTSTART;VALUE=DATE:20241206
DTEND;VALUE=DATE:20241209
DTSTAMP:20260421T191720
CREATED:20241125T111147Z
LAST-MODIFIED:20241128T000648Z
UID:10000506-1733443200-1733702399@superpadel.com.br
SUMMARY:Panamericano de Seniores 2024
DESCRIPTION:Panamericano de Seniores 2024
URL:https://superpadel.com.br/agenda/panamericano-de-seniores-2024/
LOCATION:Argentina\, Argentina
CATEGORIES:Internacional,Padel America
ATTACH;FMTTYPE=image/jpeg:https://superpadel.com.br/wp-content/uploads/2024/11/Imagem-do-WhatsApp-de-2024-11-26-as-07.46.24_57120d68.jpg
END:VEVENT
END:VCALENDAR