BEGIN:VCALENDAR
VERSION:2.0
PRODID:-//Portal Super Padel - ECPv6.15.20//NONSGML v1.0//EN
CALSCALE:GREGORIAN
METHOD:PUBLISH
X-ORIGINAL-URL:https://superpadel.com.br
X-WR-CALDESC:Eventos para Portal Super Padel
REFRESH-INTERVAL;VALUE=DURATION:PT1H
X-Robots-Tag:noindex
X-PUBLISHED-TTL:PT1H
BEGIN:VTIMEZONE
TZID:America/Sao_Paulo
BEGIN:STANDARD
TZOFFSETFROM:-0300
TZOFFSETTO:-0300
TZNAME:-03
DTSTART:20240101T000000
END:STANDARD
END:VTIMEZONE
BEGIN:VEVENT
DTSTART;VALUE=DATE:20250210
DTEND;VALUE=DATE:20250216
DTSTAMP:20260421T085329
CREATED:20250204T200137Z
LAST-MODIFIED:20250204T200137Z
UID:10000514-1739145600-1739663999@superpadel.com.br
SUMMARY:Premier Padel Ryiadh P1 2025
DESCRIPTION:Premier Padel Ryiadh P1 2025
URL:https://superpadel.com.br/agenda/premier-padel-ryiadh-p1-2025/
LOCATION:Arábia Saudita\, Arábia Saudita
CATEGORIES:Internacional,Premier Padel Tour
ATTACH;FMTTYPE=image/jpeg:https://superpadel.com.br/wp-content/uploads/2025/02/riyadh.jpg
END:VEVENT
BEGIN:VEVENT
DTSTART;VALUE=DATE:20250210
DTEND;VALUE=DATE:20250217
DTSTAMP:20260421T085329
CREATED:20250117T142511Z
LAST-MODIFIED:20250117T142511Z
UID:10000509-1739145600-1739750399@superpadel.com.br
SUMMARY:FIP Silver - Rio Grande 2025
DESCRIPTION:FIP Silver – Rio Grande 2025
URL:https://superpadel.com.br/agenda/fip-silver-rio-grande-2025/
LOCATION:Rio Grande – RS\, Rio Grande\, Rio Grande do Sul\, Brasil
CATEGORIES:FIP
ATTACH;FMTTYPE=image/jpeg:https://superpadel.com.br/wp-content/uploads/2025/01/fip.jpg
END:VEVENT
BEGIN:VEVENT
DTSTART;VALUE=DATE:20250213
DTEND;VALUE=DATE:20250217
DTSTAMP:20260421T085329
CREATED:20250117T143047Z
LAST-MODIFIED:20250117T143047Z
UID:10000511-1739404800-1739750399@superpadel.com.br
SUMMARY:FIP Promises - Rio Grande 2025
DESCRIPTION:FIP Promises – Rio Grande 2025
URL:https://superpadel.com.br/agenda/fip-promises-rio-grande-2025/
LOCATION:Rio Grande – RS\, Rio Grande\, Rio Grande do Sul\, Brasil
CATEGORIES:FIP
ATTACH;FMTTYPE=image/jpeg:https://superpadel.com.br/wp-content/uploads/2025/01/riogrande.jpg
END:VEVENT
BEGIN:VEVENT
DTSTART;VALUE=DATE:20250214
DTEND;VALUE=DATE:20250217
DTSTAMP:20260421T085329
CREATED:20250117T143425Z
LAST-MODIFIED:20250117T143425Z
UID:10000512-1739491200-1739750399@superpadel.com.br
SUMMARY:Campeonato Brasileiro - 1ª Etapa - Rio Grande - RS
DESCRIPTION:Campeonato Brasileiro – 1ª Etapa – Rio Grande – RS \n  \n 
URL:https://superpadel.com.br/agenda/campeonato-brasileiro-1a-etapa-rio-grande-rs/
LOCATION:Rio Grande – RS\, Rio Grande\, Rio Grande do Sul\, Brasil
CATEGORIES:Campeonato Brasileiro de Padel
ATTACH;FMTTYPE=image/jpeg:https://superpadel.com.br/wp-content/uploads/2025/01/brasileiro.jpg
END:VEVENT
END:VCALENDAR