BEGIN:VCALENDAR
VERSION:2.0
PRODID:-//Portal Super Padel - ECPv6.15.20//NONSGML v1.0//EN
CALSCALE:GREGORIAN
METHOD:PUBLISH
X-ORIGINAL-URL:https://superpadel.com.br
X-WR-CALDESC:Eventos para Portal Super Padel
REFRESH-INTERVAL;VALUE=DURATION:PT1H
X-Robots-Tag:noindex
X-PUBLISHED-TTL:PT1H
BEGIN:VTIMEZONE
TZID:America/Sao_Paulo
BEGIN:STANDARD
TZOFFSETFROM:-0300
TZOFFSETTO:-0300
TZNAME:-03
DTSTART:20240101T000000
END:STANDARD
END:VTIMEZONE
BEGIN:VEVENT
DTSTART;VALUE=DATE:20250303
DTEND;VALUE=DATE:20250310
DTSTAMP:20260421T074407
CREATED:20250117T142748Z
LAST-MODIFIED:20250117T142748Z
UID:10000510-1740960000-1741564799@superpadel.com.br
SUMMARY:FIP Platinum - Mexico 2025
DESCRIPTION:FIP Platinum – Mexico 2025
URL:https://superpadel.com.br/agenda/fip-platinum-mexico-2025/
LOCATION:México\, México
CATEGORIES:FIP
ATTACH;FMTTYPE=image/jpeg:https://superpadel.com.br/wp-content/uploads/2025/01/mexico.jpg
END:VEVENT
END:VCALENDAR