BEGIN:VCALENDAR
VERSION:2.0
PRODID:-//Portal Super Padel - ECPv6.15.20//NONSGML v1.0//EN
CALSCALE:GREGORIAN
METHOD:PUBLISH
X-ORIGINAL-URL:https://superpadel.com.br
X-WR-CALDESC:Eventos para Portal Super Padel
REFRESH-INTERVAL;VALUE=DURATION:PT1H
X-Robots-Tag:noindex
X-PUBLISHED-TTL:PT1H
BEGIN:VTIMEZONE
TZID:America/Sao_Paulo
BEGIN:STANDARD
TZOFFSETFROM:-0300
TZOFFSETTO:-0300
TZNAME:-03
DTSTART:20240101T000000
END:STANDARD
END:VTIMEZONE
BEGIN:VEVENT
DTSTART;VALUE=DATE:20250420
DTEND;VALUE=DATE:20250428
DTSTAMP:20260419T194004
CREATED:20250408T193433Z
LAST-MODIFIED:20250408T193433Z
UID:10000522-1745107200-1745798399@superpadel.com.br
SUMMARY:Premier Padel Brussels P2 2025
DESCRIPTION:Premier Padel Brussels P2 2025
URL:https://superpadel.com.br/agenda/premier-padel-brussels-p2-2025/
LOCATION:Bruxelas\, Bruxelas\, Bélgica
CATEGORIES:Feminino,Internacional,Masculino,Premier Padel Tour
ATTACH;FMTTYPE=image/webp:https://superpadel.com.br/wp-content/uploads/2025/04/PREMIER-PADEL-LOTTO-BRUXCELES-724x1024-1.webp
END:VEVENT
BEGIN:VEVENT
DTSTART;VALUE=DATE:20250421
DTEND;VALUE=DATE:20250428
DTSTAMP:20260419T194004
CREATED:20250408T192926Z
LAST-MODIFIED:20250408T192926Z
UID:10000519-1745193600-1745798399@superpadel.com.br
SUMMARY:A1 Padel Lanzarote Open 2025
DESCRIPTION:A1 Padel Lanzarote Open 2025
URL:https://superpadel.com.br/agenda/a1-padel-lanzarote-open-2025/
LOCATION:Espanha\, Espanha
CATEGORIES:A1 Padel,Internacional,Masculino
ATTACH;FMTTYPE=image/jpeg:https://superpadel.com.br/wp-content/uploads/2025/04/27be2590fa-scaled.jpg
END:VEVENT
END:VCALENDAR