BEGIN:VCALENDAR
VERSION:2.0
PRODID:-//Portal Super Padel - ECPv6.15.20//NONSGML v1.0//EN
CALSCALE:GREGORIAN
METHOD:PUBLISH
X-WR-CALNAME:Portal Super Padel
X-ORIGINAL-URL:https://superpadel.com.br
X-WR-CALDESC:Eventos para Portal Super Padel
REFRESH-INTERVAL;VALUE=DURATION:PT1H
X-Robots-Tag:noindex
X-PUBLISHED-TTL:PT1H
BEGIN:VTIMEZONE
TZID:America/Sao_Paulo
BEGIN:STANDARD
TZOFFSETFROM:-0300
TZOFFSETTO:-0300
TZNAME:-03
DTSTART:20240101T000000
END:STANDARD
END:VTIMEZONE
BEGIN:VEVENT
DTSTART;VALUE=DATE:20250518
DTEND;VALUE=DATE:20250526
DTSTAMP:20260419T170246
CREATED:20250430T143029Z
LAST-MODIFIED:20250430T143029Z
UID:10000529-1747526400-1748217599@superpadel.com.br
SUMMARY:Premier Padel Asuncion P2 2025
DESCRIPTION:Premier Padel Asuncion P2 2025
URL:https://superpadel.com.br/agenda/premier-padel-asuncion-p2-2025/
LOCATION:Assunção\, Paraguai
CATEGORIES:Premier Padel Tour
ATTACH;FMTTYPE=image/webp:https://superpadel.com.br/wp-content/uploads/2025/04/FLYER_PP_2-1-724x1024-1.webp
END:VEVENT
BEGIN:VEVENT
DTSTART;VALUE=DATE:20250523
DTEND;VALUE=DATE:20250526
DTSTAMP:20260419T170246
CREATED:20250505T143740Z
LAST-MODIFIED:20250505T170737Z
UID:10000531-1747958400-1748217599@superpadel.com.br
SUMMARY:16º Delta Open
DESCRIPTION:16º Delta Open
URL:https://superpadel.com.br/agenda/16o-delta-open/
LOCATION:Delta Padel\, R. Antônio Lopes Gonçalves Bastos\, 1043 - Rodovia SC 102\, Camboriú\, Santa catarina\, 88343-412\, Brasil
CATEGORIES:Eventos,Feminino,Masculino,Regional
ATTACH;FMTTYPE=image/jpeg:https://superpadel.com.br/wp-content/uploads/2025/05/Cartaz-10180-x-1350.jpg
END:VEVENT
END:VCALENDAR