BEGIN:VCALENDAR
VERSION:2.0
PRODID:-//Portal Super Padel - ECPv6.15.20//NONSGML v1.0//EN
CALSCALE:GREGORIAN
METHOD:PUBLISH
X-ORIGINAL-URL:https://superpadel.com.br
X-WR-CALDESC:Eventos para Portal Super Padel
REFRESH-INTERVAL;VALUE=DURATION:PT1H
X-Robots-Tag:noindex
X-PUBLISHED-TTL:PT1H
BEGIN:VTIMEZONE
TZID:America/Sao_Paulo
BEGIN:STANDARD
TZOFFSETFROM:-0300
TZOFFSETTO:-0300
TZNAME:-03
DTSTART:20240101T000000
END:STANDARD
END:VTIMEZONE
BEGIN:VEVENT
DTSTART;VALUE=DATE:20250526
DTEND;VALUE=DATE:20250602
DTSTAMP:20260419T153019
CREATED:20250408T193239Z
LAST-MODIFIED:20250408T193239Z
UID:10000521-1748217600-1748822399@superpadel.com.br
SUMMARY:Premier Padel Buenos Aires P1 2025
DESCRIPTION:Premier Padel Buenos Aires P1 2025
URL:https://superpadel.com.br/agenda/premier-padel-buenos-aires-p1-2025/
LOCATION:Argentina\, Argentina
CATEGORIES:Feminino,Internacional,Masculino,Premier Padel Tour
ATTACH;FMTTYPE=image/webp:https://superpadel.com.br/wp-content/uploads/2025/04/BUENOS-AIRES-P1-OFICIAL-819x1024-1.webp
END:VEVENT
BEGIN:VEVENT
DTSTART;VALUE=DATE:20250529
DTEND;VALUE=DATE:20250602
DTSTAMP:20260419T153019
CREATED:20250517T201301Z
LAST-MODIFIED:20250703T144945Z
UID:10000534-1748476800-1748822399@superpadel.com.br
SUMMARY:BPT Ibirubá Open 2025
DESCRIPTION:BPT Ibirubá Open
URL:https://superpadel.com.br/agenda/bpt-ibiruba-open/
LOCATION:Ibirubá\, Rio Grande do Sul\, Brasil
CATEGORIES:Brasil Padel Tour,Masculino
ATTACH;FMTTYPE=image/jpeg:https://superpadel.com.br/wp-content/uploads/2025/05/ibiruba.jpg
END:VEVENT
BEGIN:VEVENT
DTSTART;VALUE=DATE:20250530
DTEND;VALUE=DATE:20250602
DTSTAMP:20260419T153019
CREATED:20250505T171037Z
LAST-MODIFIED:20250505T171037Z
UID:10000532-1748563200-1748822399@superpadel.com.br
SUMMARY:2ª Etapa Circuito Gaúcho de Padel
DESCRIPTION:2ª Etapa Circuito Gaúcho de Padel
URL:https://superpadel.com.br/agenda/2a-etapa-circuito-gaucho-de-padel-3/
LOCATION:Caxias do Sul\, Caxias do Sul\, Rio Grande do Sul\, Brasil
CATEGORIES:Estadual
ATTACH;FMTTYPE=image/jpeg:https://superpadel.com.br/wp-content/uploads/2025/05/SaveClip.App_487266033_18300264442208341_2075537088470279167_n.jpg
END:VEVENT
END:VCALENDAR