BEGIN:VCALENDAR
VERSION:2.0
PRODID:-//Portal Super Padel - ECPv6.15.20//NONSGML v1.0//EN
CALSCALE:GREGORIAN
METHOD:PUBLISH
X-WR-CALNAME:Portal Super Padel
X-ORIGINAL-URL:https://superpadel.com.br
X-WR-CALDESC:Eventos para Portal Super Padel
REFRESH-INTERVAL;VALUE=DURATION:PT1H
X-Robots-Tag:noindex
X-PUBLISHED-TTL:PT1H
BEGIN:VTIMEZONE
TZID:America/Sao_Paulo
BEGIN:STANDARD
TZOFFSETFROM:-0300
TZOFFSETTO:-0300
TZNAME:-03
DTSTART:20240101T000000
END:STANDARD
END:VTIMEZONE
BEGIN:VEVENT
DTSTART;VALUE=DATE:20250714
DTEND;VALUE=DATE:20250721
DTSTAMP:20260419T170022
CREATED:20250617T114247Z
LAST-MODIFIED:20250617T114247Z
UID:10000542-1752451200-1753055999@superpadel.com.br
SUMMARY:Premier Padel Malaga P1 2025
DESCRIPTION:Premier Padel Malaga P1 2025
URL:https://superpadel.com.br/agenda/premier-padel-malaga-p1-2025/
LOCATION:Espanha\, Espanha
CATEGORIES:Internacional,Premier Padel Tour
ATTACH;FMTTYPE=image/webp:https://superpadel.com.br/wp-content/uploads/2025/06/malaga-p1.webp
END:VEVENT
BEGIN:VEVENT
DTSTART;VALUE=DATE:20250718
DTEND;VALUE=DATE:20250721
DTSTAMP:20260419T170022
CREATED:20250604T003509Z
LAST-MODIFIED:20250604T003509Z
UID:10000538-1752796800-1753055999@superpadel.com.br
SUMMARY:Copa Weiku de Pádel
DESCRIPTION:Copa Weiku de Pádel – Central Padel – Itajaí – SC
URL:https://superpadel.com.br/agenda/copa-weiku-de-padel-2/
LOCATION:Central Padel\, R. Lauro Muller\, n. 1317 - Fazenda\, Itajaí\, Santa Catarina\, 88301-401\, Brasil
CATEGORIES:Feminino,Masculino,Regional
ATTACH;FMTTYPE=image/jpeg:https://superpadel.com.br/wp-content/uploads/2025/06/SaveClip.App_491444149_18175670545325336_7663481206842705051_n.jpg
END:VEVENT
BEGIN:VEVENT
DTSTART;VALUE=DATE:20250724
DTEND;VALUE=DATE:20250728
DTSTAMP:20260419T170022
CREATED:20250617T120307Z
LAST-MODIFIED:20250617T120902Z
UID:10000547-1753315200-1753660799@superpadel.com.br
SUMMARY:Panamericano de Menores - 2ª Etapa 2025
DESCRIPTION:Panamericano de Menores – 2ª Etapa 2025
URL:https://superpadel.com.br/agenda/panamericano-de-menores-2a-etapa-2025/
LOCATION:México\, México
CATEGORIES:Internacional,Padel America
ATTACH;FMTTYPE=image/jpeg:https://superpadel.com.br/wp-content/uploads/2025/06/Pan-de-Menores.jpg
END:VEVENT
BEGIN:VEVENT
DTSTART;VALUE=DATE:20250725
DTEND;VALUE=DATE:20250728
DTSTAMP:20260419T170022
CREATED:20250505T171218Z
LAST-MODIFIED:20250505T171218Z
UID:10000533-1753401600-1753660799@superpadel.com.br
SUMMARY:3ª Etapa Circuito Gaúcho de Padel
DESCRIPTION:3ª Etapa Circuito Gaúcho de Padel
URL:https://superpadel.com.br/agenda/3a-etapa-circuito-gaucho-de-padel/
LOCATION:Novo Hamburgo\, Novo Hamburgo\, Rio Grande do Sul\, Brasil
CATEGORIES:Estadual
ATTACH;FMTTYPE=image/jpeg:https://superpadel.com.br/wp-content/uploads/2025/05/SaveClip.App_489350859_18301673521208341_5902317457833627824_n.jpg
END:VEVENT
BEGIN:VEVENT
DTSTART;VALUE=DATE:20250725
DTEND;VALUE=DATE:20250728
DTSTAMP:20260419T170022
CREATED:20250517T202525Z
LAST-MODIFIED:20250517T202620Z
UID:10000537-1753401600-1753660799@superpadel.com.br
SUMMARY:Copa Intercontinental FIP
DESCRIPTION:Copa Intercontinental FIP
URL:https://superpadel.com.br/agenda/copa-intercontinental-fip/
LOCATION:Londres\, United Kingdom
CATEGORIES:FIP,Internacional
ATTACH;FMTTYPE=image/jpeg:https://superpadel.com.br/wp-content/uploads/2025/05/intercontinental.jpg
END:VEVENT
BEGIN:VEVENT
DTSTART;TZID=America/Sao_Paulo:20250731T080000
DTEND;TZID=America/Sao_Paulo:20250806T170000
DTSTAMP:20260419T170022
CREATED:20250617T114752Z
LAST-MODIFIED:20250617T114752Z
UID:10000545-1753948800-1754499600@superpadel.com.br
SUMMARY:FIP Silver Porto Alegre 2025
DESCRIPTION:FIP Silver Porto Alegre 2025
URL:https://superpadel.com.br/agenda/fip-silver-porto-alegre-2025/
LOCATION:Porto Alegre\, Porto Alegre\, Rio Grande do Sul\, 90250-680\, Brasil
CATEGORIES:FIP,Internacional
ATTACH;FMTTYPE=image/webp:https://superpadel.com.br/wp-content/uploads/2025/06/silver-poa.webp
END:VEVENT
BEGIN:VEVENT
DTSTART;VALUE=DATE:20250815
DTEND;VALUE=DATE:20250818
DTSTAMP:20260419T170022
CREATED:20250815T133056Z
LAST-MODIFIED:20250815T133056Z
UID:10000551-1755216000-1755475199@superpadel.com.br
SUMMARY:South African Invitational
DESCRIPTION:South African Invitational
URL:https://superpadel.com.br/agenda/south-african-invitational/
LOCATION:Africa do Sul\, South Africa
CATEGORIES:Eventos,Internacional
ATTACH;FMTTYPE=image/jpeg:https://superpadel.com.br/wp-content/uploads/2025/08/SaveClip.App_526535315_17861902191445573_897427621754982433_n.jpg
END:VEVENT
BEGIN:VEVENT
DTSTART;VALUE=DATE:20250822
DTEND;VALUE=DATE:20250825
DTSTAMP:20260419T170022
CREATED:20250815T133501Z
LAST-MODIFIED:20250815T133501Z
UID:10000552-1755820800-1756079999@superpadel.com.br
SUMMARY:Campeonato Catarinense de Padel - 4ª Etapa de 2025
DESCRIPTION:Campeonato Catarinense de Padel – 4ª Etapa de 2025
URL:https://superpadel.com.br/agenda/campeonato-catarinense-de-padel-4a-etapa-de-2025/
LOCATION:Blu Padel\, Rua São Paulo\, 2815\, Blumenau\, Santa Catarina\, Brasil
CATEGORIES:Estadual
ATTACH;FMTTYPE=image/jpeg:https://superpadel.com.br/wp-content/uploads/2025/08/Cartaz-4a-Etapa-scaled.jpg
END:VEVENT
BEGIN:VEVENT
DTSTART;VALUE=DATE:20250828
DTEND;VALUE=DATE:20250831
DTSTAMP:20260419T170022
CREATED:20250828T165100Z
LAST-MODIFIED:20250828T171602Z
UID:10000555-1756339200-1756598399@superpadel.com.br
SUMMARY:Circuito Panamericano de Menores - 3ª Etapa
DESCRIPTION:Circuito Panamericano de Menores – 3ª Etapa
URL:https://superpadel.com.br/agenda/circuito-panamericano-de-menores-3a-etapa/
LOCATION:Delta Padel\, R. Antônio Lopes Gonçalves Bastos\, 1043 - Rodovia SC 102\, Camboriú\, Santa catarina\, 88343-412\, Brasil
CATEGORIES:Internacional,Menores,Padel America
ATTACH;FMTTYPE=image/jpeg:https://superpadel.com.br/wp-content/uploads/2025/08/SaveClip.App_524992567_17887883700320326_2625875013196000517_n.jpg
END:VEVENT
BEGIN:VEVENT
DTSTART;VALUE=DATE:20250901
DTEND;VALUE=DATE:20250908
DTSTAMP:20260419T170022
CREATED:20250617T114439Z
LAST-MODIFIED:20250617T114439Z
UID:10000543-1756684800-1757289599@superpadel.com.br
SUMMARY:Premier Padel Madrid P1 2025
DESCRIPTION:Premier Padel Madrid P1 2025
URL:https://superpadel.com.br/agenda/premier-padel-madrid-p1-2025/
LOCATION:Espanha\, Espanha
CATEGORIES:Internacional,Premier Padel Tour
ATTACH;FMTTYPE=image/webp:https://superpadel.com.br/wp-content/uploads/2025/06/madrid-p1.webp
END:VEVENT
BEGIN:VEVENT
DTSTART;VALUE=DATE:20250905
DTEND;VALUE=DATE:20250908
DTSTAMP:20260419T170022
CREATED:20250815T133633Z
LAST-MODIFIED:20250815T133633Z
UID:10000553-1757030400-1757289599@superpadel.com.br
SUMMARY:17º Delta Open
DESCRIPTION:17º Delta Open
URL:https://superpadel.com.br/agenda/17o-delta-open/
LOCATION:Delta Padel\, R. Antônio Lopes Gonçalves Bastos\, 1043 - Rodovia SC 102\, Camboriú\, Santa catarina\, 88343-412\, Brasil
CATEGORIES:Eventos,Feminino,Masculino,Regional
ATTACH;FMTTYPE=image/jpeg:https://superpadel.com.br/wp-content/uploads/2025/08/Cartaz-10180-x-1350-1.jpg
END:VEVENT
BEGIN:VEVENT
DTSTART;TZID=America/Sao_Paulo:20250908T080000
DTEND;TZID=America/Sao_Paulo:20250916T170000
DTSTAMP:20260419T170022
CREATED:20250617T114607Z
LAST-MODIFIED:20250617T115359Z
UID:10000544-1757318400-1758042000@superpadel.com.br
SUMMARY:Premier Padel Paris Major 2025
DESCRIPTION:Premier Padel Paris Major 2025
URL:https://superpadel.com.br/agenda/premier-padel-paris-major-2025/
LOCATION:França\, França
CATEGORIES:Internacional,Premier Padel Tour
ATTACH;FMTTYPE=image/webp:https://superpadel.com.br/wp-content/uploads/2025/06/paris-major.webp
END:VEVENT
BEGIN:VEVENT
DTSTART;TZID=America/Sao_Paulo:20250915T080000
DTEND;TZID=America/Sao_Paulo:20250920T170000
DTSTAMP:20260419T170022
CREATED:20250828T170134Z
LAST-MODIFIED:20250828T170134Z
UID:10000559-1757923200-1758387600@superpadel.com.br
SUMMARY:FIP Platinum Sevilla 2025
DESCRIPTION:FIP Platinum Sevilla 2025
URL:https://superpadel.com.br/agenda/fip-platinum-sevilla-2025/
LOCATION:Sevilha\, Espanha
CATEGORIES:FIP,Internacional
ATTACH;FMTTYPE=image/webp:https://superpadel.com.br/wp-content/uploads/2025/08/FIP-PLATINUM-SEVILLA-2@05x-724x1024-1.webp
END:VEVENT
BEGIN:VEVENT
DTSTART;VALUE=DATE:20250925
DTEND;VALUE=DATE:20250928
DTSTAMP:20260419T170022
CREATED:20250828T170521Z
LAST-MODIFIED:20250828T170521Z
UID:10000560-1758758400-1759017599@superpadel.com.br
SUMMARY:Panamericano de Clubes Federados 2025
DESCRIPTION:Panamericano de Clubes Federados 2025
URL:https://superpadel.com.br/agenda/panamericano-de-clubes-federados-2025/
LOCATION:Argentina\, Argentina
CATEGORIES:Internacional,Padel America
ATTACH;FMTTYPE=image/jpeg:https://superpadel.com.br/wp-content/uploads/2025/08/SaveClip.App_522382480_17886492108320326_6798682995919366238_n.jpg
END:VEVENT
BEGIN:VEVENT
DTSTART;VALUE=DATE:20250926
DTEND;VALUE=DATE:20250929
DTSTAMP:20260419T170022
CREATED:20250903T180156Z
LAST-MODIFIED:20250903T180156Z
UID:10000562-1758844800-1759103999@superpadel.com.br
SUMMARY:Copa Siux de Padel
DESCRIPTION:Copa Siux de Padel
URL:https://superpadel.com.br/agenda/copa-siux-de-padel/
LOCATION:Arena BC\, Av. dos Tucanos\, 286 - Ariribá\, Balneário Camboriú\, Santa Catarina\, 88338-610\, Brasil
CATEGORIES:Feminino,Masculino,Regional
ATTACH;FMTTYPE=image/jpeg:https://superpadel.com.br/wp-content/uploads/2025/09/Screenshot_1.jpg
END:VEVENT
BEGIN:VEVENT
DTSTART;VALUE=DATE:20250927
DTEND;VALUE=DATE:20250928
DTSTAMP:20260419T170022
CREATED:20250828T165325Z
LAST-MODIFIED:20250828T165325Z
UID:10000556-1758931200-1759017599@superpadel.com.br
SUMMARY:Pink Day - 2ª Edição
DESCRIPTION:Pink Day – 2ª Edição
URL:https://superpadel.com.br/agenda/pink-day-2a-edicao/
LOCATION:Delta Padel\, R. Antônio Lopes Gonçalves Bastos\, 1043 - Rodovia SC 102\, Camboriú\, Santa catarina\, 88343-412\, Brasil
CATEGORIES:Feminino,Regional
ATTACH;FMTTYPE=image/jpeg:https://superpadel.com.br/wp-content/uploads/2025/08/Cartaz-Pink-Day-2025.jpg
END:VEVENT
BEGIN:VEVENT
DTSTART;VALUE=DATE:20250929
DTEND;VALUE=DATE:20251006
DTSTAMP:20260419T170022
CREATED:20250618T174605Z
LAST-MODIFIED:20250618T174605Z
UID:10000549-1759104000-1759708799@superpadel.com.br
SUMMARY:Copa do Mundo FIP de Juniores 2025
DESCRIPTION:Copa do Mundo FIP de Juniores 2025
URL:https://superpadel.com.br/agenda/copa-do-mundo-fip-de-juniores-2025/
LOCATION:Espanha\, Espanha
CATEGORIES:FIP,Internacional,Menores
ATTACH;FMTTYPE=image/jpeg:https://superpadel.com.br/wp-content/uploads/2025/06/junior.jpg
END:VEVENT
BEGIN:VEVENT
DTSTART;VALUE=DATE:20250929
DTEND;VALUE=DATE:20251006
DTSTAMP:20260419T170022
CREATED:20250828T165833Z
LAST-MODIFIED:20250828T165910Z
UID:10000558-1759104000-1759708799@superpadel.com.br
SUMMARY:Premier Padel Rotterdam P1 2025
DESCRIPTION:Premier Padel Rotterdam P1 2025
URL:https://superpadel.com.br/agenda/premier-padel-rotterdam-p1-2025/
LOCATION:Holanda\, Holanda
CATEGORIES:Internacional,Premier Padel Tour
ATTACH;FMTTYPE=image/webp:https://superpadel.com.br/wp-content/uploads/2025/08/PP_Global_poster_2481x3508-724x1024-1.webp
END:VEVENT
BEGIN:VEVENT
DTSTART;VALUE=DATE:20251003
DTEND;VALUE=DATE:20251006
DTSTAMP:20260419T170022
CREATED:20250831T184152Z
LAST-MODIFIED:20250831T184152Z
UID:10000561-1759449600-1759708799@superpadel.com.br
SUMMARY:Copa Weiku de Pádel
DESCRIPTION:Copa Weiku de Pádel – Central Padel – Itajaí – SC
URL:https://superpadel.com.br/agenda/copa-weiku-de-padel-3/
LOCATION:Central Padel\, R. Lauro Muller\, n. 1317 - Fazenda\, Itajaí\, Santa Catarina\, 88301-401\, Brasil
CATEGORIES:Feminino,Masculino,Regional
ATTACH;FMTTYPE=image/jpeg:https://superpadel.com.br/wp-content/uploads/2025/08/SaveClip.App_539970654_18188099458325336_6532383730842154987_n.jpg
END:VEVENT
BEGIN:VEVENT
DTSTART;VALUE=DATE:20251017
DTEND;VALUE=DATE:20251020
DTSTAMP:20260419T170022
CREATED:20250828T165532Z
LAST-MODIFIED:20250828T165532Z
UID:10000557-1760659200-1760918399@superpadel.com.br
SUMMARY:TPM Padel - 9ª Edição
DESCRIPTION:TPM Padel – 9ª Edição
URL:https://superpadel.com.br/agenda/tpm-padel-9a-edicao/
LOCATION:Delta Padel\, R. Antônio Lopes Gonçalves Bastos\, 1043 - Rodovia SC 102\, Camboriú\, Santa catarina\, 88343-412\, Brasil
CATEGORIES:Feminino,Regional
ATTACH;FMTTYPE=image/jpeg:https://superpadel.com.br/wp-content/uploads/2025/08/Cartaz-TPM-9-B-scaled.jpg
END:VEVENT
BEGIN:VEVENT
DTSTART;VALUE=DATE:20251017
DTEND;VALUE=DATE:20251020
DTSTAMP:20260419T170022
CREATED:20251020T231935Z
LAST-MODIFIED:20251020T231935Z
UID:10000565-1760659200-1760918399@superpadel.com.br
SUMMARY:BPT Challenger Camaquã 2025
DESCRIPTION:BPT Challenger Camaquã 2025
URL:https://superpadel.com.br/agenda/bpt-challenger-camaqua-2025/
LOCATION:Camaquã\, Rio Grande do Sul
CATEGORIES:Brasil Padel Tour
ATTACH;FMTTYPE=image/jpeg:https://superpadel.com.br/wp-content/uploads/2025/10/SaveClip.App_554023932_1212991224194761_2080575231743845795_n.jpg
END:VEVENT
BEGIN:VEVENT
DTSTART;VALUE=DATE:20251022
DTEND;VALUE=DATE:20251026
DTSTAMP:20260419T170022
CREATED:20251020T233110Z
LAST-MODIFIED:20251023T193949Z
UID:10000568-1761091200-1761436799@superpadel.com.br
SUMMARY:Panamericano Absoluto 2025
DESCRIPTION:Panamericano Absoluto 2025
URL:https://superpadel.com.br/agenda/panamericano-absoluto-2025/
LOCATION:Chile\, Chile
CATEGORIES:Padel America
ATTACH;FMTTYPE=image/jpeg:https://superpadel.com.br/wp-content/uploads/2025/10/SaveClip.App_553210191_17894900190320326_5695299799737643280_n.jpg
END:VEVENT
BEGIN:VEVENT
DTSTART;VALUE=DATE:20251025
DTEND;VALUE=DATE:20251101
DTSTAMP:20260419T170022
CREATED:20251023T193849Z
LAST-MODIFIED:20251023T193849Z
UID:10000570-1761350400-1761955199@superpadel.com.br
SUMMARY:Premier Padel Newgiza P2 2025
DESCRIPTION:Premier Padel Newgiza P2 2025
URL:https://superpadel.com.br/agenda/premier-padel-newgiza-p2-2025/
LOCATION:Egito\, Egito
CATEGORIES:Premier Padel Tour
ATTACH;FMTTYPE=image/webp:https://superpadel.com.br/wp-content/uploads/2025/10/Pp-25-Master-Visual21-9-819x1024-1.webp
END:VEVENT
BEGIN:VEVENT
DTSTART;VALUE=DATE:20251101
DTEND;VALUE=DATE:20251110
DTSTAMP:20260419T170022
CREATED:20251020T233700Z
LAST-MODIFIED:20251020T233700Z
UID:10000569-1761955200-1762732799@superpadel.com.br
SUMMARY:Mundial de Duplas da 2025
DESCRIPTION:Mundial de Duplas da 2025
URL:https://superpadel.com.br/agenda/mundial-de-duplas-da-2025/
LOCATION:Kuwait\, Kuwait
CATEGORIES:FIP
ATTACH;FMTTYPE=image/jpeg:https://superpadel.com.br/wp-content/uploads/2025/10/FIP-World-Cup-Poster-04_2418x3508-706x1024-1.jpg
END:VEVENT
BEGIN:VEVENT
DTSTART;VALUE=DATE:20251106
DTEND;VALUE=DATE:20251110
DTSTAMP:20260419T170022
CREATED:20251020T232519Z
LAST-MODIFIED:20251020T232748Z
UID:10000567-1762387200-1762732799@superpadel.com.br
SUMMARY:Panamericano de Categorias Livres 2025
DESCRIPTION:Panamericano de Categorias Livres 2025
URL:https://superpadel.com.br/agenda/panamericano-de-categorias-livres-2025/
LOCATION:Argentina\, Argentina
CATEGORIES:Padel America
ATTACH;FMTTYPE=image/jpeg:https://superpadel.com.br/wp-content/uploads/2025/10/SaveClip.App_564341702_17897256345320326_937817483006749980_n.jpg
END:VEVENT
BEGIN:VEVENT
DTSTART;TZID=America/Sao_Paulo:20251106T080000
DTEND;TZID=America/Sao_Paulo:20251109T170000
DTSTAMP:20260419T170022
CREATED:20251020T232114Z
LAST-MODIFIED:20251020T232114Z
UID:10000566-1762416000-1762707600@superpadel.com.br
SUMMARY:BPT Challenger Palmeira das Missões 2025
DESCRIPTION:BPT Challenger Palmeira das Missões 2025
URL:https://superpadel.com.br/agenda/bpt-challenger-palmeira-das-missoes-2025/
LOCATION:Grand Padel\, Palmeira das Missões\, RS\, Brasil
CATEGORIES:Brasil Padel Tour
ATTACH;FMTTYPE=image/jpeg:https://superpadel.com.br/wp-content/uploads/2025/10/SaveClip.App_561683484_1231703435656873_7752099273953613294_n.jpg
END:VEVENT
BEGIN:VEVENT
DTSTART;TZID=America/Sao_Paulo:20251107T080000
DTEND;TZID=America/Sao_Paulo:20251109T170000
DTSTAMP:20260419T170022
CREATED:20251001T185608Z
LAST-MODIFIED:20251001T185618Z
UID:10000563-1762502400-1762707600@superpadel.com.br
SUMMARY:Torneio Euro Padel
DESCRIPTION:Torneio Euro Padel
URL:https://superpadel.com.br/agenda/torneio-euro-padel/
LOCATION:Euro Padel\, R. Carlos Martins\, 17 - Barão Geraldo\, Campinas\, 13084125\, Brasil
CATEGORIES:Feminino,Livre,Masculino,Regional
ATTACH;FMTTYPE=image/png:https://superpadel.com.br/wp-content/uploads/2025/10/euro-padelb.png
END:VEVENT
BEGIN:VEVENT
DTSTART;VALUE=DATE:20251109
DTEND;VALUE=DATE:20251117
DTSTAMP:20260419T170022
CREATED:20251023T194154Z
LAST-MODIFIED:20251103T173913Z
UID:10000571-1762646400-1763337599@superpadel.com.br
SUMMARY:Premier Padel Dubai P1 2025
DESCRIPTION:Premier Padel Dubai P1 2025
URL:https://superpadel.com.br/agenda/premier-padel-dubai-p1-2025/
LOCATION:Dubai\, Emirados Árabes
CATEGORIES:Premier Padel Tour
ATTACH;FMTTYPE=image/webp:https://superpadel.com.br/wp-content/uploads/2025/10/Premier-Padel-Dubai-725x1024-2.webp
END:VEVENT
BEGIN:VEVENT
DTSTART;VALUE=DATE:20251114
DTEND;VALUE=DATE:20251117
DTSTAMP:20260419T170022
CREATED:20251020T222502Z
LAST-MODIFIED:20251020T222502Z
UID:10000564-1763078400-1763337599@superpadel.com.br
SUMMARY:18º Delta Open - 4ª Etapa 2025
DESCRIPTION:18º Delta Open – 4ª Etapa 2025
URL:https://superpadel.com.br/agenda/18o-delta-open-4a-etapa-2025/
LOCATION:Delta Padel\, R. Antônio Lopes Gonçalves Bastos\, 1043 - Rodovia SC 102\, Camboriú\, Santa catarina\, 88343-412\, Brasil
CATEGORIES:Feminino,Masculino,Misto,Regional
ATTACH;FMTTYPE=image/jpeg:https://superpadel.com.br/wp-content/uploads/2025/10/Cartaz-10180-x-1350.jpg
END:VEVENT
BEGIN:VEVENT
DTSTART;VALUE=DATE:20251121
DTEND;VALUE=DATE:20251124
DTSTAMP:20260419T170022
CREATED:20250828T164832Z
LAST-MODIFIED:20250828T164832Z
UID:10000554-1763683200-1763942399@superpadel.com.br
SUMMARY:Campeonato Brasileiro Interfederações
DESCRIPTION:Campeonato Brasileiro Interfederações
URL:https://superpadel.com.br/agenda/campeonato-brasileiro-interfederacoes/
LOCATION:Delta Padel\, R. Antônio Lopes Gonçalves Bastos\, 1043 - Rodovia SC 102\, Camboriú\, Santa catarina\, 88343-412\, Brasil
CATEGORIES:Nacional
ATTACH;FMTTYPE=image/jpeg:https://superpadel.com.br/wp-content/uploads/2025/08/interfederacoes.jpg
END:VEVENT
END:VCALENDAR