BEGIN:VCALENDAR
VERSION:2.0
PRODID:-//Portal Super Padel - ECPv6.15.20//NONSGML v1.0//EN
CALSCALE:GREGORIAN
METHOD:PUBLISH
X-ORIGINAL-URL:https://superpadel.com.br
X-WR-CALDESC:Eventos para Portal Super Padel
REFRESH-INTERVAL;VALUE=DURATION:PT1H
X-Robots-Tag:noindex
X-PUBLISHED-TTL:PT1H
BEGIN:VTIMEZONE
TZID:America/Sao_Paulo
BEGIN:STANDARD
TZOFFSETFROM:-0300
TZOFFSETTO:-0300
TZNAME:-03
DTSTART:20230101T000000
END:STANDARD
END:VTIMEZONE
BEGIN:VEVENT
DTSTART;VALUE=DATE:20240914
DTEND;VALUE=DATE:20240923
DTSTAMP:20260422T185106
CREATED:20240806T004141Z
LAST-MODIFIED:20240806T005110Z
UID:10000479-1726272000-1727049599@superpadel.com.br
SUMMARY:Premier Padel Valladolid P2 2024
DESCRIPTION:Premier Padel Valladolid P2
URL:https://superpadel.com.br/agenda/premier-padel-valladolid-p2-2024/
LOCATION:Plaza Mayor Caja Rural\, Espanha
CATEGORIES:Internacional,Premier Padel Tour
ATTACH;FMTTYPE=image/png:https://superpadel.com.br/wp-content/uploads/2024/08/valladolid.png
END:VEVENT
BEGIN:VEVENT
DTSTART;VALUE=DATE:20240917
DTEND;VALUE=DATE:20240922
DTSTAMP:20260422T185106
CREATED:20240910T135958Z
LAST-MODIFIED:20240910T140045Z
UID:10000485-1726531200-1726963199@superpadel.com.br
SUMMARY:X Panamericano de Menores - México 2024
DESCRIPTION:X Panamericano de Menores – México 2024
URL:https://superpadel.com.br/agenda/x-panamericano-de-menores-mexico-2024/
LOCATION:México\, México
CATEGORIES:Internacional,Menores
ATTACH;FMTTYPE=image/jpeg:https://superpadel.com.br/wp-content/uploads/2024/09/pan_menores.jpg
END:VEVENT
BEGIN:VEVENT
DTSTART;VALUE=DATE:20240920
DTEND;VALUE=DATE:20240923
DTSTAMP:20260422T185106
CREATED:20240909T180812Z
LAST-MODIFIED:20240909T180812Z
UID:10000484-1726790400-1727049599@superpadel.com.br
SUMMARY:Campeonato Catarinense de Padel - 4ª Etapa de 2024
DESCRIPTION:Campeonato Catarinense de Padel – 4ª Etapa de 2024
URL:https://superpadel.com.br/agenda/campeonato-catarinense-de-padel-4a-etapa-de-2024/
LOCATION:Brusque – SC\, Santa Catarina\, Brasil
CATEGORIES:Estadual,Feminino,Masculino,Menores,Sênior
ATTACH;FMTTYPE=image/jpeg:https://superpadel.com.br/wp-content/uploads/2024/09/4a-Etapa-SQUARE.jpg
END:VEVENT
BEGIN:VEVENT
DTSTART;VALUE=DATE:20240920
DTEND;VALUE=DATE:20240923
DTSTAMP:20260422T185106
CREATED:20240911T025833Z
LAST-MODIFIED:20240911T025833Z
UID:10000486-1726790400-1727049599@superpadel.com.br
SUMMARY:BPT Brusque Open 2024
DESCRIPTION:BPT Brusque Open 2024
URL:https://superpadel.com.br/agenda/bpt-brusque-open-2024/
LOCATION:Brusque – SC\, Santa Catarina\, Brasil
CATEGORIES:Brasil Padel Tour,Nacional
ATTACH;FMTTYPE=image/jpeg:https://superpadel.com.br/wp-content/uploads/2024/09/apb_brusque.jpg
END:VEVENT
BEGIN:VEVENT
DTSTART;VALUE=DATE:20240928
DTEND;VALUE=DATE:20240930
DTSTAMP:20260422T185106
CREATED:20240925T035237Z
LAST-MODIFIED:20240925T035237Z
UID:10000490-1727481600-1727654399@superpadel.com.br
SUMMARY:1º Torneio Misto Delta Padel 2024
DESCRIPTION:1º Torneio Misto Delta Padel 2024
URL:https://superpadel.com.br/agenda/1o-torneio-misto-delta-padel-2024/
LOCATION:Delta Padel\, R. Antônio Lopes Gonçalves Bastos\, 1043 - Rodovia SC 102\, Camboriú\, Santa catarina\, 88343-412\, Brasil
CATEGORIES:Misto,Regional
ATTACH;FMTTYPE=image/jpeg:https://superpadel.com.br/wp-content/uploads/2024/09/1o-Torneio-Misto-1.jpg
END:VEVENT
BEGIN:VEVENT
DTSTART;VALUE=DATE:20240928
DTEND;VALUE=DATE:20241007
DTSTAMP:20260422T185106
CREATED:20240806T004345Z
LAST-MODIFIED:20240806T004345Z
UID:10000480-1727481600-1728259199@superpadel.com.br
SUMMARY:Premier Padel Paris Major 2024
DESCRIPTION:Premier Padel Paris Major 2024
URL:https://superpadel.com.br/agenda/premier-padel-paris-major-2024/
LOCATION:Paris\, França
CATEGORIES:Internacional,Premier Padel Tour
ATTACH;FMTTYPE=image/png:https://superpadel.com.br/wp-content/uploads/2024/08/paris.png
END:VEVENT
BEGIN:VEVENT
DTSTART;VALUE=DATE:20241011
DTEND;VALUE=DATE:20241021
DTSTAMP:20260422T185106
CREATED:20240925T034816Z
LAST-MODIFIED:20240925T034816Z
UID:10000488-1728604800-1729468799@superpadel.com.br
SUMMARY:A1 Padel Sevilla Master 2024
DESCRIPTION:A1 Padel Sevilla Master 2024
URL:https://superpadel.com.br/agenda/a1-padel-sevilla-master-2024/
LOCATION:Espanha\, Espanha
CATEGORIES:A1 Padel,Internacional
ATTACH;FMTTYPE=image/jpeg:https://superpadel.com.br/wp-content/uploads/2024/09/sevilla.jpg
END:VEVENT
BEGIN:VEVENT
DTSTART;VALUE=DATE:20241014
DTEND;VALUE=DATE:20241021
DTSTAMP:20260422T185106
CREATED:20240925T034452Z
LAST-MODIFIED:20240925T034452Z
UID:10000487-1728864000-1729468799@superpadel.com.br
SUMMARY:FIP Platinum Marbella 2024
DESCRIPTION:FIP Platinum Marbella 2024
URL:https://superpadel.com.br/agenda/fip-platinum-marbella-2024/
LOCATION:Espanha\, Espanha
CATEGORIES:FIP,Internacional
ATTACH;FMTTYPE=image/jpeg:https://superpadel.com.br/wp-content/uploads/2024/09/marbella.jpg
END:VEVENT
BEGIN:VEVENT
DTSTART;VALUE=DATE:20241017
DTEND;VALUE=DATE:20241021
DTSTAMP:20260422T185106
CREATED:20241007T162459Z
LAST-MODIFIED:20241007T162459Z
UID:10000492-1729123200-1729468799@superpadel.com.br
SUMMARY:BPT São Paulo Master 2024
DESCRIPTION:FIP Platinum Marbella 2024
URL:https://superpadel.com.br/agenda/bpt-sao-paulo-master-2024/
LOCATION:Padel Beach Leopoldina\, Av. Mofarrej\, 205 B - Vila Leopoldina\, São Paulo\, São Paulo\, Brasil
CATEGORIES:Brasil Padel Tour,Masculino,Nacional
ATTACH;FMTTYPE=image/jpeg:https://superpadel.com.br/wp-content/uploads/2024/10/bpt.jpg
END:VEVENT
BEGIN:VEVENT
DTSTART;VALUE=DATE:20241018
DTEND;VALUE=DATE:20241021
DTSTAMP:20260422T185106
CREATED:20240925T035025Z
LAST-MODIFIED:20240925T035025Z
UID:10000489-1729209600-1729468799@superpadel.com.br
SUMMARY:Torneio de Padel Para Mulheres - TPM 2024
DESCRIPTION:Torneio de Padel Para Mulheres – TPM 2024
URL:https://superpadel.com.br/agenda/torneio-de-padel-para-mulheres-tpm-2024/
LOCATION:Delta Padel\, R. Antônio Lopes Gonçalves Bastos\, 1043 - Rodovia SC 102\, Camboriú\, Santa catarina\, 88343-412\, Brasil
CATEGORIES:Feminino,Regional
ATTACH;FMTTYPE=image/jpeg:https://superpadel.com.br/wp-content/uploads/2024/09/tpm.jpg
END:VEVENT
BEGIN:VEVENT
DTSTART;VALUE=DATE:20241021
DTEND;VALUE=DATE:20241028
DTSTAMP:20260422T185106
CREATED:20241021T140545Z
LAST-MODIFIED:20241021T140819Z
UID:10000493-1729468800-1730073599@superpadel.com.br
SUMMARY:Premier Padel Newgiza P2 2024
DESCRIPTION:Premier Padel Newgiza P2 2024
URL:https://superpadel.com.br/agenda/premier-padel-newgiza-p2-2024/
LOCATION:Egito\, Egito
CATEGORIES:Internacional,Premier Padel Tour
ATTACH;FMTTYPE=image/jpeg:https://superpadel.com.br/wp-content/uploads/2024/10/newgiza.jpg
END:VEVENT
BEGIN:VEVENT
DTSTART;VALUE=DATE:20241028
DTEND;VALUE=DATE:20241103
DTSTAMP:20260422T185106
CREATED:20240514T122156Z
LAST-MODIFIED:20240514T122156Z
UID:10000462-1730073600-1730591999@superpadel.com.br
SUMMARY:Campeonato Mundial de Padel 2024
DESCRIPTION:Campeonato Mundial de Padel 2024
URL:https://superpadel.com.br/agenda/campeonato-mundial-de-padel-2024/
LOCATION:Catar\, Catar
CATEGORIES:FIP,Internacional
ATTACH;FMTTYPE=image/png:https://superpadel.com.br/wp-content/uploads/2024/05/mundial.png
END:VEVENT
BEGIN:VEVENT
DTSTART;VALUE=DATE:20241103
DTEND;VALUE=DATE:20241111
DTSTAMP:20260422T185106
CREATED:20241104T185745Z
LAST-MODIFIED:20241104T185929Z
UID:10000496-1730592000-1731283199@superpadel.com.br
SUMMARY:Premier Padel Dubai P1 2024
DESCRIPTION:Premier Padel Dubai P1 2024
URL:https://superpadel.com.br/agenda/premier-padel-dubai-p1-2024/
LOCATION:Dubai\, Emirados Árabes
CATEGORIES:Internacional,Premier Padel Tour
ATTACH;FMTTYPE=image/jpeg:https://superpadel.com.br/wp-content/uploads/2024/11/dubai.jpg
END:VEVENT
BEGIN:VEVENT
DTSTART;VALUE=DATE:20241107
DTEND;VALUE=DATE:20241111
DTSTAMP:20260422T185106
CREATED:20241021T141513Z
LAST-MODIFIED:20241021T141513Z
UID:10000494-1730937600-1731283199@superpadel.com.br
SUMMARY:BPT Passo Fundo Open 2024
DESCRIPTION:BPT Passo Fundo Open 2024
URL:https://superpadel.com.br/agenda/bpt-passo-fundo-open-2024/
LOCATION:Passo Fundo – RS\, Rio Grande do Sul\, Brasil
CATEGORIES:Brasil Padel Tour,Masculino,Nacional
ATTACH;FMTTYPE=image/jpeg:https://superpadel.com.br/wp-content/uploads/2024/10/bpt-1.jpg
END:VEVENT
BEGIN:VEVENT
DTSTART;VALUE=DATE:20241111
DTEND;VALUE=DATE:20241118
DTSTAMP:20260422T185106
CREATED:20241111T121533Z
LAST-MODIFIED:20241111T121533Z
UID:10000497-1731283200-1731887999@superpadel.com.br
SUMMARY:Premier Padel Kuwait City P1 2024
DESCRIPTION:Premier Padel Kuwait City P1 2024
URL:https://superpadel.com.br/agenda/premier-padel-kuwait-city-p1-2024/
LOCATION:Kuwait\, Kuwait
CATEGORIES:Feminino,Internacional,Masculino,Premier Padel Tour
ATTACH;FMTTYPE=image/jpeg:https://superpadel.com.br/wp-content/uploads/2024/11/kuwait.jpg
END:VEVENT
BEGIN:VEVENT
DTSTART;VALUE=DATE:20241115
DTEND;VALUE=DATE:20241118
DTSTAMP:20260422T185106
CREATED:20241007T125554Z
LAST-MODIFIED:20241007T125554Z
UID:10000491-1731628800-1731887999@superpadel.com.br
SUMMARY:14º Delta Padel Open
DESCRIPTION:14º Delta Padel Open
URL:https://superpadel.com.br/agenda/14o-delta-padel-open/
LOCATION:Delta Padel\, R. Antônio Lopes Gonçalves Bastos\, 1043 - Rodovia SC 102\, Camboriú\, Santa catarina\, 88343-412\, Brasil
CATEGORIES:Eventos,Feminino,Masculino,Regional
ATTACH;FMTTYPE=image/jpeg:https://superpadel.com.br/wp-content/uploads/2024/10/Cartaz-14-Delta-Open.jpg
END:VEVENT
BEGIN:VEVENT
DTSTART;VALUE=DATE:20241115
DTEND;VALUE=DATE:20241118
DTSTAMP:20260422T185106
CREATED:20241028T182240Z
LAST-MODIFIED:20241028T182240Z
UID:10000495-1731628800-1731887999@superpadel.com.br
SUMMARY:BPT Master Finals Camboriú 2024
DESCRIPTION:BPT Master Finals Camboriú 2024
URL:https://superpadel.com.br/agenda/bpt-master-finals-camboriu-2024/
LOCATION:Delta Padel\, R. Antônio Lopes Gonçalves Bastos\, 1043 - Rodovia SC 102\, Camboriú\, Santa catarina\, 88343-412\, Brasil
CATEGORIES:Brasil Padel Tour,Masculino,Nacional
ATTACH;FMTTYPE=image/jpeg:https://superpadel.com.br/wp-content/uploads/2024/10/bpt-2.jpg
END:VEVENT
BEGIN:VEVENT
DTSTART;VALUE=DATE:20241115
DTEND;VALUE=DATE:20241125
DTSTAMP:20260422T185106
CREATED:20241119T150234Z
LAST-MODIFIED:20241119T150234Z
UID:10000499-1731628800-1732492799@superpadel.com.br
SUMMARY:A1 Padel Salta Master 2024
DESCRIPTION:A1 Padel Salta Master 2024
URL:https://superpadel.com.br/agenda/a1-padel-salta-master-2024/
LOCATION:Argentina\, Argentina
CATEGORIES:A1 Padel,Internacional
ATTACH;FMTTYPE=image/jpeg:https://superpadel.com.br/wp-content/uploads/2024/11/a1.jpg
END:VEVENT
BEGIN:VEVENT
DTSTART;VALUE=DATE:20241119
DTEND;VALUE=DATE:20241124
DTSTAMP:20260422T185106
CREATED:20241119T145931Z
LAST-MODIFIED:20241119T145931Z
UID:10000498-1731974400-1732406399@superpadel.com.br
SUMMARY:Pro Padel League Finals 2024
DESCRIPTION:Pro Padel League Finals 2024
URL:https://superpadel.com.br/agenda/pro-padel-league-finals-2024/
LOCATION:Nova Iorque\, Nova Iorque\, Nova Iorque
CATEGORIES:Internacional,Pro Padel League
ATTACH;FMTTYPE=image/jpeg:https://superpadel.com.br/wp-content/uploads/2024/11/ppl.jpg
END:VEVENT
BEGIN:VEVENT
DTSTART;VALUE=DATE:20241125
DTEND;VALUE=DATE:20241202
DTSTAMP:20260422T185106
CREATED:20241119T150714Z
LAST-MODIFIED:20241119T150714Z
UID:10000500-1732492800-1733097599@superpadel.com.br
SUMMARY:Premier Padel Mexico Major 2024
DESCRIPTION:Premier Padel Mexico Major 2024
URL:https://superpadel.com.br/agenda/premier-padel-mexico-major-2024/
LOCATION:México\, México
CATEGORIES:Internacional,Premier Padel Tour
ATTACH;FMTTYPE=image/jpeg:https://superpadel.com.br/wp-content/uploads/2024/11/premier.jpg
END:VEVENT
BEGIN:VEVENT
DTSTART;VALUE=DATE:20241128
DTEND;VALUE=DATE:20241203
DTSTAMP:20260422T185106
CREATED:20241125T110941Z
LAST-MODIFIED:20241125T110941Z
UID:10000505-1732752000-1733183999@superpadel.com.br
SUMMARY:Panamericano de Clubes 2024
DESCRIPTION:Panamericano de Clubes 2024
URL:https://superpadel.com.br/agenda/panamericano-de-clubes-2024/
LOCATION:Rio Grande do Sul
CATEGORIES:FIP,Internacional
ATTACH;FMTTYPE=image/jpeg:https://superpadel.com.br/wp-content/uploads/2024/11/fip_black.jpg
END:VEVENT
BEGIN:VEVENT
DTSTART;VALUE=DATE:20241130
DTEND;VALUE=DATE:20241209
DTSTAMP:20260422T185106
CREATED:20241119T150903Z
LAST-MODIFIED:20241119T150903Z
UID:10000501-1732924800-1733702399@superpadel.com.br
SUMMARY:Premier Padel Milano P1 2024
DESCRIPTION:Premier Padel Milano P1 2024
URL:https://superpadel.com.br/agenda/premier-padel-milano-p1-2024/
LOCATION:Milão\, Itália
CATEGORIES:Internacional,Premier Padel Tour
ATTACH;FMTTYPE=image/jpeg:https://superpadel.com.br/wp-content/uploads/2024/11/milano.jpg
END:VEVENT
BEGIN:VEVENT
DTSTART;VALUE=DATE:20241202
DTEND;VALUE=DATE:20241209
DTSTAMP:20260422T185106
CREATED:20241125T110042Z
LAST-MODIFIED:20241125T110042Z
UID:10000503-1733097600-1733702399@superpadel.com.br
SUMMARY:A1 Padel San Juan Open 2024
DESCRIPTION:A1 Padel San Juan Open 2024
URL:https://superpadel.com.br/agenda/a1-padel-san-juan-open-2024/
LOCATION:Argentina\, Argentina
CATEGORIES:A1 Padel,Internacional
ATTACH;FMTTYPE=image/jpeg:https://superpadel.com.br/wp-content/uploads/2024/11/a1-1.jpg
END:VEVENT
BEGIN:VEVENT
DTSTART;VALUE=DATE:20241206
DTEND;VALUE=DATE:20241209
DTSTAMP:20260422T185106
CREATED:20241125T111147Z
LAST-MODIFIED:20241128T000648Z
UID:10000506-1733443200-1733702399@superpadel.com.br
SUMMARY:Panamericano de Seniores 2024
DESCRIPTION:Panamericano de Seniores 2024
URL:https://superpadel.com.br/agenda/panamericano-de-seniores-2024/
LOCATION:Argentina\, Argentina
CATEGORIES:Internacional,Padel America
ATTACH;FMTTYPE=image/jpeg:https://superpadel.com.br/wp-content/uploads/2024/11/Imagem-do-WhatsApp-de-2024-11-26-as-07.46.24_57120d68.jpg
END:VEVENT
BEGIN:VEVENT
DTSTART;VALUE=DATE:20241211
DTEND;VALUE=DATE:20241216
DTSTAMP:20260422T185106
CREATED:20241125T110348Z
LAST-MODIFIED:20241125T110348Z
UID:10000504-1733875200-1734307199@superpadel.com.br
SUMMARY:FIP Finals Grand Bourg 2024
DESCRIPTION:FIP Finals Grand Bourg 2024
URL:https://superpadel.com.br/agenda/fip-finals-grand-bourg-2024/
LOCATION:França\, França
CATEGORIES:FIP,Internacional
ATTACH;FMTTYPE=image/jpeg:https://superpadel.com.br/wp-content/uploads/2024/11/fip.jpg
END:VEVENT
BEGIN:VEVENT
DTSTART;VALUE=DATE:20241211
DTEND;VALUE=DATE:20241216
DTSTAMP:20260422T185106
CREATED:20241209T222449Z
LAST-MODIFIED:20241209T222449Z
UID:10000507-1733875200-1734307199@superpadel.com.br
SUMMARY:A1 Padel Venezuela Master Final 2024
DESCRIPTION:A1 Padel Venezuela Master Final 2024
URL:https://superpadel.com.br/agenda/a1-padel-venezuela-master-final-2024/
LOCATION:Venezuela\, Venezuela
CATEGORIES:A1 Padel,Internacional
ATTACH;FMTTYPE=image/jpeg:https://superpadel.com.br/wp-content/uploads/2024/12/a1.jpg
END:VEVENT
BEGIN:VEVENT
DTSTART;VALUE=DATE:20241219
DTEND;VALUE=DATE:20241223
DTSTAMP:20260422T185106
CREATED:20241119T151050Z
LAST-MODIFIED:20241119T151050Z
UID:10000502-1734566400-1734911999@superpadel.com.br
SUMMARY:Premier Padel Finals 2024
DESCRIPTION:Premier Padel Finals 2024
URL:https://superpadel.com.br/agenda/premier-padel-finals-2024/
LOCATION:Barcelona\, Barcelona\, Espanha
CATEGORIES:Internacional,Premier Padel Tour
ATTACH;FMTTYPE=image/jpeg:https://superpadel.com.br/wp-content/uploads/2024/11/finals.jpg
END:VEVENT
BEGIN:VEVENT
DTSTART;VALUE=DATE:20250123
DTEND;VALUE=DATE:20250126
DTSTAMP:20260422T185106
CREATED:20250117T141839Z
LAST-MODIFIED:20250117T141931Z
UID:10000508-1737590400-1737849599@superpadel.com.br
SUMMARY:Reserve Cup - Miami 2025
DESCRIPTION:Reserve Cup – Miami 2025
URL:https://superpadel.com.br/agenda/reserve-cup-miami-2025/
LOCATION:Miami\, Miami\, Flórida\, Estados Unidos
ATTACH;FMTTYPE=image/jpeg:https://superpadel.com.br/wp-content/uploads/2025/01/reserve.jpg
END:VEVENT
BEGIN:VEVENT
DTSTART;VALUE=DATE:20250129
DTEND;VALUE=DATE:20250203
DTSTAMP:20260422T185106
CREATED:20250122T175130Z
LAST-MODIFIED:20250122T175130Z
UID:10000513-1738108800-1738540799@superpadel.com.br
SUMMARY:Hexagon Cup 2025
DESCRIPTION:Hexagon Cup 2025
URL:https://superpadel.com.br/agenda/hexagon-cup-2025/
LOCATION:Madri\, Espanha
CATEGORIES:Hexagon Cup,Internacional
ATTACH;FMTTYPE=image/jpeg:https://superpadel.com.br/wp-content/uploads/2025/01/hexagon.jpg
END:VEVENT
BEGIN:VEVENT
DTSTART;VALUE=DATE:20250205
DTEND;VALUE=DATE:20250209
DTSTAMP:20260422T185106
CREATED:20250205T173427Z
LAST-MODIFIED:20250205T173427Z
UID:10000517-1738713600-1739059199@superpadel.com.br
SUMMARY:World Padel League - Mumbai 2025
DESCRIPTION:World Padel League – Mumbai 2025
URL:https://superpadel.com.br/agenda/world-padel-league-mumbai-2025/
LOCATION:Índia\, India
CATEGORIES:Internacional,World Padel League
ATTACH;FMTTYPE=image/jpeg:https://superpadel.com.br/wp-content/uploads/2025/02/wpl.jpg
END:VEVENT
END:VCALENDAR