BEGIN:VCALENDAR
VERSION:2.0
PRODID:-//Portal Super Padel - ECPv6.15.20//NONSGML v1.0//EN
CALSCALE:GREGORIAN
METHOD:PUBLISH
X-ORIGINAL-URL:https://superpadel.com.br
X-WR-CALDESC:Eventos para Portal Super Padel
REFRESH-INTERVAL;VALUE=DURATION:PT1H
X-Robots-Tag:noindex
X-PUBLISHED-TTL:PT1H
BEGIN:VTIMEZONE
TZID:America/Sao_Paulo
BEGIN:STANDARD
TZOFFSETFROM:-0300
TZOFFSETTO:-0300
TZNAME:-03
DTSTART:20230101T000000
END:STANDARD
END:VTIMEZONE
BEGIN:VEVENT
DTSTART;VALUE=DATE:20240402
DTEND;VALUE=DATE:20240408
DTSTAMP:20260424T042109
CREATED:20240402T184846Z
LAST-MODIFIED:20240402T191040Z
UID:10000452-1712016000-1712534399@superpadel.com.br
SUMMARY:Pro Padel League - Event 1
DESCRIPTION:Pro Padel League – Event 1
URL:https://superpadel.com.br/agenda/pro-padel-league-event-1/
LOCATION:Miami\, Miami\, Flórida\, Estados Unidos
CATEGORIES:Pro Padel League
ATTACH;FMTTYPE=image/jpeg:https://superpadel.com.br/wp-content/uploads/2024/04/Snapinsta.app_434394285_17947009676790215_7279782099790826250_n_1080.jpg
END:VEVENT
BEGIN:VEVENT
DTSTART;VALUE=DATE:20240405
DTEND;VALUE=DATE:20240408
DTSTAMP:20260424T042109
CREATED:20240403T182751Z
LAST-MODIFIED:20240403T182751Z
UID:10000453-1712275200-1712534399@superpadel.com.br
SUMMARY:BPT Master Rio Grande 2024
DESCRIPTION:BPT Master Rio Grande 2024
URL:https://superpadel.com.br/agenda/bpt-master-rio-grande-2024/
LOCATION:Sunset Padel\, R. Visc. do Rio Grande\, 01\, Cidade Nova\, Rio Grande - RS\, Rio Grande do Sul\, 96211-490\, Brasil
CATEGORIES:Brasil Padel Tour,Nacional
ATTACH;FMTTYPE=image/jpeg:https://superpadel.com.br/wp-content/uploads/2024/04/rio-grande.jpg
END:VEVENT
BEGIN:VEVENT
DTSTART;VALUE=DATE:20240415
DTEND;VALUE=DATE:20240422
DTSTAMP:20260424T042109
CREATED:20240315T125348Z
LAST-MODIFIED:20240315T134407Z
UID:10000449-1713139200-1713743999@superpadel.com.br
SUMMARY:A1 Padel Chile 2024
DESCRIPTION:A1 Padel Chile 2024
URL:https://superpadel.com.br/agenda/a1-padel-chile-2024/
LOCATION:Chile\, Chile
CATEGORIES:A1 Padel,Internacional
ATTACH;FMTTYPE=image/jpeg:https://superpadel.com.br/wp-content/uploads/2024/03/Snapinsta.app_430438606_252679121228136_1742614133575057067_n_1080.jpg
END:VEVENT
BEGIN:VEVENT
DTSTART;VALUE=DATE:20240418
DTEND;VALUE=DATE:20240422
DTSTAMP:20260424T042109
CREATED:20240419T125636Z
LAST-MODIFIED:20240419T125636Z
UID:10000455-1713398400-1713743999@superpadel.com.br
SUMMARY:BPT Balneário Camboriú 2024
DESCRIPTION:BPT Balneário Camboriú 2024
URL:https://superpadel.com.br/agenda/bpt-balneario-camboriu-2024/
LOCATION:Arena BC\, Av. dos Tucanos\, 286 - Ariribá\, Balneário Camboriú\, Santa Catarina\, 88338-610\, Brasil
CATEGORIES:Brasil Padel Tour,Masculino
ATTACH;FMTTYPE=image/jpeg:https://superpadel.com.br/wp-content/uploads/2024/04/BPT-CAMBORIU.jpg
END:VEVENT
BEGIN:VEVENT
DTSTART;VALUE=DATE:20240419
DTEND;VALUE=DATE:20240422
DTSTAMP:20260424T042109
CREATED:20240319T002221Z
LAST-MODIFIED:20240319T002221Z
UID:10000451-1713484800-1713743999@superpadel.com.br
SUMMARY:Campeonato Catarinense de Padel - 1ª Etapa 2024
DESCRIPTION:Campeonato Catarinense de Padel – 1ª Etapa 2024
URL:https://superpadel.com.br/agenda/campeonato-catarinense-de-padel-1a-etapa-2024/
LOCATION:Balneário Camboriú – SC\, Santa Catarina\, Brasil
CATEGORIES:Estadual,Eventos,Feminino,Masculino,Menores
ATTACH;FMTTYPE=image/jpeg:https://superpadel.com.br/wp-content/uploads/2024/03/1a-Etapa-B.jpg
END:VEVENT
BEGIN:VEVENT
DTSTART;VALUE=DATE:20240426
DTEND;VALUE=DATE:20240429
DTSTAMP:20260424T042109
CREATED:20240228T174609Z
LAST-MODIFIED:20240228T182329Z
UID:10000445-1714089600-1714348799@superpadel.com.br
SUMMARY:Copa Cesla - 1ª Etapa
DESCRIPTION: 
URL:https://superpadel.com.br/agenda/copa-cesla-1a-etapa/
LOCATION:Cesla Complexo Esportivo e Lazer\, R. Antônio Gonçalves do Amaral\, 1547 - São José\, Santa Maria\, Rio Grande do Sul\, 97110070
CATEGORIES:Eventos,Feminino,Masculino,Menores,Regional
ATTACH;FMTTYPE=image/jpeg:https://superpadel.com.br/wp-content/uploads/2024/02/IMG-20240228-WA0023.jpg
END:VEVENT
BEGIN:VEVENT
DTSTART;VALUE=DATE:20240429
DTEND;VALUE=DATE:20240506
DTSTAMP:20260424T042109
CREATED:20240424T180632Z
LAST-MODIFIED:20240424T180632Z
UID:10000456-1714348800-1714953599@superpadel.com.br
SUMMARY:Premier Padel Sevilla P2 2024
DESCRIPTION:Premier Padel Sevilla P2 2024
URL:https://superpadel.com.br/agenda/premier-padel-sevilla-p2-2024/
LOCATION:Sevilha\, Espanha
CATEGORIES:Internacional,Premier Padel Tour
ATTACH;FMTTYPE=image/png:https://superpadel.com.br/wp-content/uploads/2024/04/sevilla.png
END:VEVENT
END:VCALENDAR