BEGIN:VCALENDAR
VERSION:2.0
PRODID:-//Portal Super Padel - ECPv6.15.20//NONSGML v1.0//EN
CALSCALE:GREGORIAN
METHOD:PUBLISH
X-WR-CALNAME:Portal Super Padel
X-ORIGINAL-URL:https://superpadel.com.br
X-WR-CALDESC:Eventos para Portal Super Padel
REFRESH-INTERVAL;VALUE=DURATION:PT1H
X-Robots-Tag:noindex
X-PUBLISHED-TTL:PT1H
BEGIN:VTIMEZONE
TZID:America/Sao_Paulo
BEGIN:STANDARD
TZOFFSETFROM:-0300
TZOFFSETTO:-0300
TZNAME:-03
DTSTART:20230101T000000
END:STANDARD
END:VTIMEZONE
BEGIN:VEVENT
DTSTART;VALUE=DATE:20240429
DTEND;VALUE=DATE:20240506
DTSTAMP:20260424T025646
CREATED:20240424T180632Z
LAST-MODIFIED:20240424T180632Z
UID:10000456-1714348800-1714953599@superpadel.com.br
SUMMARY:Premier Padel Sevilla P2 2024
DESCRIPTION:Premier Padel Sevilla P2 2024
URL:https://superpadel.com.br/agenda/premier-padel-sevilla-p2-2024/
LOCATION:Sevilha\, Espanha
CATEGORIES:Internacional,Premier Padel Tour
ATTACH;FMTTYPE=image/png:https://superpadel.com.br/wp-content/uploads/2024/04/sevilla.png
END:VEVENT
BEGIN:VEVENT
DTSTART;VALUE=DATE:20240503
DTEND;VALUE=DATE:20240506
DTSTAMP:20260424T025646
CREATED:20240315T141135Z
LAST-MODIFIED:20240315T141206Z
UID:10000450-1714694400-1714953599@superpadel.com.br
SUMMARY:Campeonato Brasileiro - 2ª Etapa 2024 - Camboriú/SC
DESCRIPTION:Campeonato Brasileiro – 2ª Etapa 2024 – Camboriú/SC \n 
URL:https://superpadel.com.br/agenda/campeonato-brasileiro-2a-etapa-2024-camboriu-sc/
LOCATION:Delta Padel\, R. Antônio Lopes Gonçalves Bastos\, 1043 - Rodovia SC 102\, Camboriú\, Santa catarina\, 88343-412\, Brasil
CATEGORIES:Campeonato Brasileiro de Padel,Feminino,Masculino,Menores,Nacional,Sênior
ATTACH;FMTTYPE=image/jpeg:https://superpadel.com.br/wp-content/uploads/2024/03/brasileiro_camboriu.jpg
END:VEVENT
BEGIN:VEVENT
DTSTART;VALUE=DATE:20240511
DTEND;VALUE=DATE:20240520
DTSTAMP:20260424T025647
CREATED:20240512T083410Z
LAST-MODIFIED:20240512T083410Z
UID:10000457-1715385600-1716163199@superpadel.com.br
SUMMARY:Premier Padel Assunción P2 2024
DESCRIPTION:Premier Padel Assunción P2 2024
URL:https://superpadel.com.br/agenda/premier-padel-assuncion-p2-2024/
LOCATION:Assunção\, Paraguai
CATEGORIES:Premier Padel Tour
ATTACH;FMTTYPE=image/png:https://superpadel.com.br/wp-content/uploads/2024/05/assuncion.png
END:VEVENT
BEGIN:VEVENT
DTSTART;VALUE=DATE:20240513
DTEND;VALUE=DATE:20240520
DTSTAMP:20260424T025647
CREATED:20240512T084427Z
LAST-MODIFIED:20240512T084427Z
UID:10000460-1715558400-1716163199@superpadel.com.br
SUMMARY:A1 Padel France Open 2024
DESCRIPTION:A1 Padel France Open 2024
URL:https://superpadel.com.br/agenda/a1-padel-france-open-2024/
LOCATION:França\, França
CATEGORIES:A1 Padel
ATTACH;FMTTYPE=image/png:https://superpadel.com.br/wp-content/uploads/2024/05/france.png
END:VEVENT
BEGIN:VEVENT
DTSTART;VALUE=DATE:20240518
DTEND;VALUE=DATE:20240527
DTSTAMP:20260424T025647
CREATED:20240512T083651Z
LAST-MODIFIED:20240512T083651Z
UID:10000458-1715990400-1716767999@superpadel.com.br
SUMMARY:Premier Padel Mar Del Plata P1 2024
DESCRIPTION:Premier Padel Mar Del Plata P1 2024
URL:https://superpadel.com.br/agenda/premier-padel-mar-del-plata-p1-2024/
LOCATION:Argentina\, Argentina
CATEGORIES:Premier Padel Tour
ATTACH;FMTTYPE=image/png:https://superpadel.com.br/wp-content/uploads/2024/05/argentina.png
END:VEVENT
BEGIN:VEVENT
DTSTART;VALUE=DATE:20240524
DTEND;VALUE=DATE:20240527
DTSTAMP:20260424T025647
CREATED:20240404T172828Z
LAST-MODIFIED:20240404T172828Z
UID:10000454-1716508800-1716767999@superpadel.com.br
SUMMARY:Stage Pablo Lima - Delta Padel
DESCRIPTION:Stage Pablo Lima – Delta Padel
URL:https://superpadel.com.br/agenda/stage-pablo-lima-delta-padel/
LOCATION:Delta Padel\, R. Antônio Lopes Gonçalves Bastos\, 1043 - Rodovia SC 102\, Camboriú\, Santa catarina\, 88343-412\, Brasil
CATEGORIES:Eventos
ATTACH;FMTTYPE=image/jpeg:https://superpadel.com.br/wp-content/uploads/2024/04/Oficina-Pablo-Lima.jpg
END:VEVENT
BEGIN:VEVENT
DTSTART;VALUE=DATE:20240525
DTEND;VALUE=DATE:20240603
DTSTAMP:20260424T025647
CREATED:20240512T083918Z
LAST-MODIFIED:20240525T110145Z
UID:10000459-1716595200-1717372799@superpadel.com.br
SUMMARY:Premier Padel Santiago P1 2024
DESCRIPTION:Premier Padel Santiago P1 2024
URL:https://superpadel.com.br/agenda/premier-padel-santiago-p1/
LOCATION:Chile\, Chile
CATEGORIES:Premier Padel Tour
ATTACH;FMTTYPE=image/png:https://superpadel.com.br/wp-content/uploads/2024/05/chile.png
END:VEVENT
BEGIN:VEVENT
DTSTART;VALUE=DATE:20240531
DTEND;VALUE=DATE:20240603
DTSTAMP:20260424T025647
CREATED:20240512T084806Z
LAST-MODIFIED:20240514T144608Z
UID:10000461-1717113600-1717372799@superpadel.com.br
SUMMARY:Campeonato Catarinense de Padel - 2ª Etapa 2024
DESCRIPTION:Campeonato Catarinense de Padel – 2ª Etapa 2024
URL:https://superpadel.com.br/agenda/campeonato-catarinense-de-padel-2a-etapa-2024/
LOCATION:Joinville\, Joinville\, Santa Catarina\, Brasil
CATEGORIES:Estadual,Feminino,Masculino,Menores,Sênior
ATTACH;FMTTYPE=image/jpeg:https://superpadel.com.br/wp-content/uploads/2024/05/2a-Etapa-C.jpg
END:VEVENT
END:VCALENDAR