BEGIN:VCALENDAR
VERSION:2.0
PRODID:-//Portal Super Padel - ECPv6.15.20//NONSGML v1.0//EN
CALSCALE:GREGORIAN
METHOD:PUBLISH
X-WR-CALNAME:Portal Super Padel
X-ORIGINAL-URL:https://superpadel.com.br
X-WR-CALDESC:Eventos para Portal Super Padel
REFRESH-INTERVAL;VALUE=DURATION:PT1H
X-Robots-Tag:noindex
X-PUBLISHED-TTL:PT1H
BEGIN:VTIMEZONE
TZID:America/Sao_Paulo
BEGIN:STANDARD
TZOFFSETFROM:-0300
TZOFFSETTO:-0300
TZNAME:-03
DTSTART:20240101T000000
END:STANDARD
END:VTIMEZONE
BEGIN:VEVENT
DTSTART;VALUE=DATE:20250409
DTEND;VALUE=DATE:20250414
DTSTAMP:20260419T193951
CREATED:20250408T194208Z
LAST-MODIFIED:20250408T194208Z
UID:10000525-1744156800-1744588799@superpadel.com.br
SUMMARY:FIP Silver Santa Maria 2025
DESCRIPTION:FIP Silver Santa Maria 2025
URL:https://superpadel.com.br/agenda/fip-silver-santa-maria-2025/
LOCATION:Santa Maria – RS\, Santa Maria\, Rio Grande do Sul\, 97070-795\, Brasil
CATEGORIES:FIP,Internacional,Masculino
ATTACH;FMTTYPE=image/webp:https://superpadel.com.br/wp-content/uploads/2025/04/WhatsApp-Image-2025-03-18-at-19.07.42-724x1024-1.webp
END:VEVENT
BEGIN:VEVENT
DTSTART;VALUE=DATE:20250409
DTEND;VALUE=DATE:20250414
DTSTAMP:20260419T193951
CREATED:20250408T194335Z
LAST-MODIFIED:20250408T194335Z
UID:10000526-1744156800-1744588799@superpadel.com.br
SUMMARY:FIP Bronze Santa Maria 2025
DESCRIPTION:FIP Silver Santa Maria 2025
URL:https://superpadel.com.br/agenda/fip-bronze-santa-maria-2025/
LOCATION:Santa Maria – RS\, Santa Maria\, Rio Grande do Sul\, 97070-795\, Brasil
CATEGORIES:Feminino,FIP,Internacional
ATTACH;FMTTYPE=image/webp:https://superpadel.com.br/wp-content/uploads/2025/04/FIP-BRONZE-SANTA-MARIA-724x1024-1.webp
END:VEVENT
BEGIN:VEVENT
DTSTART;VALUE=DATE:20250414
DTEND;VALUE=DATE:20250420
DTSTAMP:20260419T193951
CREATED:20250408T193611Z
LAST-MODIFIED:20250408T193611Z
UID:10000523-1744588800-1745107199@superpadel.com.br
SUMMARY:Premier Padel Qatar Major 2025
DESCRIPTION:Premier Padel Qatar Major 2025
URL:https://superpadel.com.br/agenda/premier-padel-qatar-major-2025/
LOCATION:Catar\, Catar
CATEGORIES:Feminino,Internacional,Masculino,Premier Padel Tour
ATTACH;FMTTYPE=image/webp:https://superpadel.com.br/wp-content/uploads/2025/04/qatar-major-2025-724x1024-1.webp
END:VEVENT
BEGIN:VEVENT
DTSTART;VALUE=DATE:20250420
DTEND;VALUE=DATE:20250428
DTSTAMP:20260419T193951
CREATED:20250408T193433Z
LAST-MODIFIED:20250408T193433Z
UID:10000522-1745107200-1745798399@superpadel.com.br
SUMMARY:Premier Padel Brussels P2 2025
DESCRIPTION:Premier Padel Qatar Major 2025
URL:https://superpadel.com.br/agenda/premier-padel-brussels-p2-2025/
LOCATION:Bruxelas\, Bruxelas\, Bélgica
CATEGORIES:Feminino,Internacional,Masculino,Premier Padel Tour
ATTACH;FMTTYPE=image/webp:https://superpadel.com.br/wp-content/uploads/2025/04/PREMIER-PADEL-LOTTO-BRUXCELES-724x1024-1.webp
END:VEVENT
BEGIN:VEVENT
DTSTART;VALUE=DATE:20250421
DTEND;VALUE=DATE:20250428
DTSTAMP:20260419T193951
CREATED:20250408T192926Z
LAST-MODIFIED:20250408T192926Z
UID:10000519-1745193600-1745798399@superpadel.com.br
SUMMARY:A1 Padel Lanzarote Open 2025
DESCRIPTION:A1 Padel Lanzarote Open 2025
URL:https://superpadel.com.br/agenda/a1-padel-lanzarote-open-2025/
LOCATION:Espanha\, Espanha
CATEGORIES:A1 Padel,Internacional,Masculino
ATTACH;FMTTYPE=image/jpeg:https://superpadel.com.br/wp-content/uploads/2025/04/27be2590fa-scaled.jpg
END:VEVENT
BEGIN:VEVENT
DTSTART;VALUE=DATE:20250425
DTEND;VALUE=DATE:20250428
DTSTAMP:20260419T193951
CREATED:20250408T150701Z
LAST-MODIFIED:20250408T150732Z
UID:10000518-1745539200-1745798399@superpadel.com.br
SUMMARY:Copa Weiku de Pádel
DESCRIPTION:Copa Weiku de Pádel – Central Padel – Itajaí – SC
URL:https://superpadel.com.br/agenda/copa-weiku-de-padel/
LOCATION:Central Padel\, R. Lauro Muller\, n. 1317 - Fazenda\, Itajaí\, Santa Catarina\, 88301-401\, Brasil
CATEGORIES:Feminino,Masculino,Regional
ATTACH;FMTTYPE=image/jpeg:https://superpadel.com.br/wp-content/uploads/2025/04/Snapins.ai_487817761_18173483644325336_2856340309965894304_n_1080.jpg
END:VEVENT
BEGIN:VEVENT
DTSTART;VALUE=DATE:20250428
DTEND;VALUE=DATE:20250505
DTSTAMP:20260419T193951
CREATED:20250408T193058Z
LAST-MODIFIED:20250408T193058Z
UID:10000520-1745798400-1746403199@superpadel.com.br
SUMMARY:A1 Padel Toledo Open 2025
DESCRIPTION:A1 Padel Toledo Open 2025
URL:https://superpadel.com.br/agenda/a1-padel-toledo-open-2025/
LOCATION:Espanha\, Espanha
CATEGORIES:A1 Padel,Internacional,Masculino
ATTACH;FMTTYPE=image/jpeg:https://superpadel.com.br/wp-content/uploads/2025/04/6746596213-scaled.jpg
END:VEVENT
BEGIN:VEVENT
DTSTART;VALUE=DATE:20250430
DTEND;VALUE=DATE:20250505
DTSTAMP:20260419T193951
CREATED:20250430T142042Z
LAST-MODIFIED:20250430T142042Z
UID:10000528-1745971200-1746403199@superpadel.com.br
SUMMARY:BPT Joinville Open 2025
DESCRIPTION:BPT Joinville Open 2025
URL:https://superpadel.com.br/agenda/bpt-joinville-open-2025/
LOCATION:Mais Padel\, R. Alberto Bornschein\, 143 - Glória\, Joinville\, Santa Catarina\, 89216-440\, Brasil
CATEGORIES:Brasil Padel Tour,Masculino
ATTACH;FMTTYPE=image/jpeg:https://superpadel.com.br/wp-content/uploads/2025/04/SaveClip.App_494539511_1093138566180028_6093963644257256878_n.jpg
END:VEVENT
END:VCALENDAR