BEGIN:VCALENDAR
VERSION:2.0
PRODID:-//Portal Super Padel - ECPv6.15.20//NONSGML v1.0//EN
CALSCALE:GREGORIAN
METHOD:PUBLISH
X-ORIGINAL-URL:https://superpadel.com.br
X-WR-CALDESC:Eventos para Portal Super Padel
REFRESH-INTERVAL;VALUE=DURATION:PT1H
X-Robots-Tag:noindex
X-PUBLISHED-TTL:PT1H
BEGIN:VTIMEZONE
TZID:America/Sao_Paulo
BEGIN:STANDARD
TZOFFSETFROM:-0300
TZOFFSETTO:-0300
TZNAME:-03
DTSTART:20240101T000000
END:STANDARD
END:VTIMEZONE
BEGIN:VEVENT
DTSTART;VALUE=DATE:20250630
DTEND;VALUE=DATE:20250707
DTSTAMP:20260419T123939
CREATED:20250617T114117Z
LAST-MODIFIED:20250617T114117Z
UID:10000541-1751241600-1751846399@superpadel.com.br
SUMMARY:Premier Padel Bordeaux P2 2025
DESCRIPTION:Premier Padel Bordeaux P2 2025
URL:https://superpadel.com.br/agenda/premier-padel-bordeaux-p2-2025/
LOCATION:França\, França
CATEGORIES:Internacional,Premier Padel Tour
ATTACH;FMTTYPE=image/webp:https://superpadel.com.br/wp-content/uploads/2025/06/bordeaux-p2.webp
END:VEVENT
BEGIN:VEVENT
DTSTART;VALUE=DATE:20250703
DTEND;VALUE=DATE:20250707
DTSTAMP:20260419T123939
CREATED:20250703T145110Z
LAST-MODIFIED:20250703T145110Z
UID:10000550-1751500800-1751846399@superpadel.com.br
SUMMARY:BPT Camboriú Open 2025
DESCRIPTION:BPT Camboriú Open 2025
URL:https://superpadel.com.br/agenda/bpt-camboriu-open-2025/
LOCATION:Delta Padel\, R. Antônio Lopes Gonçalves Bastos\, 1043 - Rodovia SC 102\, Camboriú\, Santa catarina\, 88343-412\, Brasil
CATEGORIES:Brasil Padel Tour,Masculino,Nacional
ATTACH;FMTTYPE=image/jpeg:https://superpadel.com.br/wp-content/uploads/2025/07/SaveClip.App_514325772_1142110534616164_1204579554048746269_n.jpg
END:VEVENT
BEGIN:VEVENT
DTSTART;VALUE=DATE:20250704
DTEND;VALUE=DATE:20250707
DTSTAMP:20260419T123939
CREATED:20250617T115059Z
LAST-MODIFIED:20250617T115112Z
UID:10000546-1751587200-1751846399@superpadel.com.br
SUMMARY:Campeonato Catarinense de Padel - 3ª Etapa de 2025
DESCRIPTION:Campeonato Catarinense de Padel – 3ª Etapa de 2025
URL:https://superpadel.com.br/agenda/campeonato-catarinense-de-padel-3a-etapa-de-2025/
LOCATION:Delta Padel\, R. Antônio Lopes Gonçalves Bastos\, 1043 - Rodovia SC 102\, Camboriú\, Santa catarina\, 88343-412\, Brasil
CATEGORIES:Estadual
ATTACH;FMTTYPE=image/jpeg:https://superpadel.com.br/wp-content/uploads/2025/06/Cartaz-3a-Etapa-1-scaled.jpg
END:VEVENT
BEGIN:VEVENT
DTSTART;VALUE=DATE:20250714
DTEND;VALUE=DATE:20250721
DTSTAMP:20260419T123939
CREATED:20250617T114247Z
LAST-MODIFIED:20250617T114247Z
UID:10000542-1752451200-1753055999@superpadel.com.br
SUMMARY:Premier Padel Malaga P1 2025
DESCRIPTION:Premier Padel Malaga P1 2025
URL:https://superpadel.com.br/agenda/premier-padel-malaga-p1-2025/
LOCATION:Espanha\, Espanha
CATEGORIES:Internacional,Premier Padel Tour
ATTACH;FMTTYPE=image/webp:https://superpadel.com.br/wp-content/uploads/2025/06/malaga-p1.webp
END:VEVENT
BEGIN:VEVENT
DTSTART;VALUE=DATE:20250718
DTEND;VALUE=DATE:20250721
DTSTAMP:20260419T123939
CREATED:20250604T003509Z
LAST-MODIFIED:20250604T003509Z
UID:10000538-1752796800-1753055999@superpadel.com.br
SUMMARY:Copa Weiku de Pádel
DESCRIPTION:Copa Weiku de Pádel – Central Padel – Itajaí – SC
URL:https://superpadel.com.br/agenda/copa-weiku-de-padel-2/
LOCATION:Central Padel\, R. Lauro Muller\, n. 1317 - Fazenda\, Itajaí\, Santa Catarina\, 88301-401\, Brasil
CATEGORIES:Feminino,Masculino,Regional
ATTACH;FMTTYPE=image/jpeg:https://superpadel.com.br/wp-content/uploads/2025/06/SaveClip.App_491444149_18175670545325336_7663481206842705051_n.jpg
END:VEVENT
BEGIN:VEVENT
DTSTART;VALUE=DATE:20250724
DTEND;VALUE=DATE:20250728
DTSTAMP:20260419T123939
CREATED:20250617T120307Z
LAST-MODIFIED:20250617T120902Z
UID:10000547-1753315200-1753660799@superpadel.com.br
SUMMARY:Panamericano de Menores - 2ª Etapa 2025
DESCRIPTION:Panamericano de Menores – 2ª Etapa 2025
URL:https://superpadel.com.br/agenda/panamericano-de-menores-2a-etapa-2025/
LOCATION:México\, México
CATEGORIES:Internacional,Padel America
ATTACH;FMTTYPE=image/jpeg:https://superpadel.com.br/wp-content/uploads/2025/06/Pan-de-Menores.jpg
END:VEVENT
BEGIN:VEVENT
DTSTART;VALUE=DATE:20250725
DTEND;VALUE=DATE:20250728
DTSTAMP:20260419T123939
CREATED:20250505T171218Z
LAST-MODIFIED:20250505T171218Z
UID:10000533-1753401600-1753660799@superpadel.com.br
SUMMARY:3ª Etapa Circuito Gaúcho de Padel
DESCRIPTION:3ª Etapa Circuito Gaúcho de Padel
URL:https://superpadel.com.br/agenda/3a-etapa-circuito-gaucho-de-padel/
LOCATION:Novo Hamburgo\, Novo Hamburgo\, Rio Grande do Sul\, Brasil
CATEGORIES:Estadual
ATTACH;FMTTYPE=image/jpeg:https://superpadel.com.br/wp-content/uploads/2025/05/SaveClip.App_489350859_18301673521208341_5902317457833627824_n.jpg
END:VEVENT
BEGIN:VEVENT
DTSTART;VALUE=DATE:20250725
DTEND;VALUE=DATE:20250728
DTSTAMP:20260419T123939
CREATED:20250517T202525Z
LAST-MODIFIED:20250517T202620Z
UID:10000537-1753401600-1753660799@superpadel.com.br
SUMMARY:Copa Intercontinental FIP
DESCRIPTION:Copa Intercontinental FIP
URL:https://superpadel.com.br/agenda/copa-intercontinental-fip/
LOCATION:Londres\, United Kingdom
CATEGORIES:FIP,Internacional
ATTACH;FMTTYPE=image/jpeg:https://superpadel.com.br/wp-content/uploads/2025/05/intercontinental.jpg
END:VEVENT
BEGIN:VEVENT
DTSTART;TZID=America/Sao_Paulo:20250731T080000
DTEND;TZID=America/Sao_Paulo:20250806T170000
DTSTAMP:20260419T123939
CREATED:20250617T114752Z
LAST-MODIFIED:20250617T114752Z
UID:10000545-1753948800-1754499600@superpadel.com.br
SUMMARY:FIP Silver Porto Alegre 2025
DESCRIPTION:FIP Silver Porto Alegre 2025
URL:https://superpadel.com.br/agenda/fip-silver-porto-alegre-2025/
LOCATION:Porto Alegre\, Porto Alegre\, Rio Grande do Sul\, 90250-680\, Brasil
CATEGORIES:FIP,Internacional
ATTACH;FMTTYPE=image/webp:https://superpadel.com.br/wp-content/uploads/2025/06/silver-poa.webp
END:VEVENT
END:VCALENDAR