BEGIN:VCALENDAR
VERSION:2.0
PRODID:-//Portal Super Padel - ECPv6.15.20//NONSGML v1.0//EN
CALSCALE:GREGORIAN
METHOD:PUBLISH
X-WR-CALNAME:Portal Super Padel
X-ORIGINAL-URL:https://superpadel.com.br
X-WR-CALDESC:Eventos para Portal Super Padel
REFRESH-INTERVAL;VALUE=DURATION:PT1H
X-Robots-Tag:noindex
X-PUBLISHED-TTL:PT1H
BEGIN:VTIMEZONE
TZID:America/Sao_Paulo
BEGIN:STANDARD
TZOFFSETFROM:-0300
TZOFFSETTO:-0300
TZNAME:-03
DTSTART:20220101T000000
END:STANDARD
END:VTIMEZONE
BEGIN:VEVENT
DTSTART;VALUE=DATE:20230707
DTEND;VALUE=DATE:20230710
DTSTAMP:20260424T043428
CREATED:20230305T112750Z
LAST-MODIFIED:20230515T023326Z
UID:10000249-1688688000-1688947199@superpadel.com.br
SUMMARY:Campeonato Brasileiro de Padel 2023
DESCRIPTION:Campeonato Brasileiro de Padel \nConfira as últimas notícias sobre padel. Clique aqui.
URL:https://superpadel.com.br/agenda/campeonato-brasileiro-de-padel-3/
LOCATION:Curitiba\, Paraná\, Brasil
CATEGORIES:Campeonato Brasileiro de Padel,Nacional
ATTACH;FMTTYPE=image/jpeg:https://superpadel.com.br/wp-content/uploads/2023/03/brasileiro.jpg
END:VEVENT
END:VCALENDAR