BEGIN:VCALENDAR
VERSION:2.0
PRODID:-//Portal Super Padel - ECPv6.15.20//NONSGML v1.0//EN
CALSCALE:GREGORIAN
METHOD:PUBLISH
X-WR-CALNAME:Portal Super Padel
X-ORIGINAL-URL:https://superpadel.com.br
X-WR-CALDESC:Eventos para Portal Super Padel
REFRESH-INTERVAL;VALUE=DURATION:PT1H
X-Robots-Tag:noindex
X-PUBLISHED-TTL:PT1H
BEGIN:VTIMEZONE
TZID:UTC
BEGIN:STANDARD
TZOFFSETFROM:+0000
TZOFFSETTO:+0000
TZNAME:UTC
DTSTART:20210101T000000
END:STANDARD
END:VTIMEZONE
BEGIN:VEVENT
DTSTART;VALUE=DATE:20220702
DTEND;VALUE=DATE:20220703
DTSTAMP:20260419T204844
CREATED:20220525T000528Z
LAST-MODIFIED:20220525T000528Z
UID:10000177-1656720000-1656806399@superpadel.com.br
SUMMARY:2º Torneio Da Liga Feminina Paranaense De Padel
DESCRIPTION:
URL:https://superpadel.com.br/agenda/2o-torneio-da-liga-feminina-paranaense-de-padel/
LOCATION:G3 Academia de Padel\, BR-116\, 15499 - Xaxim\, Curitiba\, Santa Catarina\, 81690-300
CATEGORIES:Feminino,Regional
ATTACH;FMTTYPE=image/jpeg:https://superpadel.com.br/wp-content/uploads/2022/05/279605986_546228253790789_3484041349582038939_n.jpg
END:VEVENT
END:VCALENDAR