BEGIN:VCALENDAR
VERSION:2.0
PRODID:-//Portal Super Padel - ECPv6.15.20//NONSGML v1.0//EN
CALSCALE:GREGORIAN
METHOD:PUBLISH
X-ORIGINAL-URL:https://superpadel.com.br
X-WR-CALDESC:Eventos para Portal Super Padel
REFRESH-INTERVAL;VALUE=DURATION:PT1H
X-Robots-Tag:noindex
X-PUBLISHED-TTL:PT1H
BEGIN:VTIMEZONE
TZID:America/Sao_Paulo
BEGIN:STANDARD
TZOFFSETFROM:-0300
TZOFFSETTO:-0300
TZNAME:-03
DTSTART:20220101T000000
END:STANDARD
END:VTIMEZONE
BEGIN:VEVENT
DTSTART;VALUE=DATE:20230705
DTEND;VALUE=DATE:20230710
DTSTAMP:20260422T085413
CREATED:20230627T231742Z
LAST-MODIFIED:20230807T103158Z
UID:10000389-1688515200-1688947199@superpadel.com.br
SUMMARY:FIP Star Nomos Curitiba 2023
DESCRIPTION:FIP Star Nomos Curitiba
URL:https://superpadel.com.br/agenda/fip-star-nomos-curitiba/
LOCATION:Padel Set\, R. Virgínia Dalabona\, 413 - Orleans\, Curitiba\, Paraná\, 82310-390\, Brasil
CATEGORIES:FIP,Masculino
ATTACH;FMTTYPE=image/png:https://superpadel.com.br/wp-content/uploads/2023/06/Screenshot_1-1.png
END:VEVENT
END:VCALENDAR