BEGIN:VCALENDAR
VERSION:2.0
PRODID:-//Portal Super Padel - ECPv6.15.20//NONSGML v1.0//EN
CALSCALE:GREGORIAN
METHOD:PUBLISH
X-ORIGINAL-URL:https://superpadel.com.br
X-WR-CALDESC:Eventos para Portal Super Padel
REFRESH-INTERVAL;VALUE=DURATION:PT1H
X-Robots-Tag:noindex
X-PUBLISHED-TTL:PT1H
BEGIN:VTIMEZONE
TZID:America/Sao_Paulo
BEGIN:STANDARD
TZOFFSETFROM:-0300
TZOFFSETTO:-0300
TZNAME:-03
DTSTART:20220101T000000
END:STANDARD
END:VTIMEZONE
BEGIN:VEVENT
DTSTART;VALUE=DATE:20230710
DTEND;VALUE=DATE:20230717
DTSTAMP:20260420T053122
CREATED:20230213T153929Z
LAST-MODIFIED:20230717T164555Z
UID:10000189-1688947200-1689551999@superpadel.com.br
SUMMARY:Italy Major Premier Padel 2023
DESCRIPTION:Italy Major Premier Padel \nConfira as últimas notícias sobre Premier Padel. Clique aqui.
URL:https://superpadel.com.br/agenda/italy-major-premier-padel/
LOCATION:Roma\, Itália
CATEGORIES:Internacional,Premier Padel Tour
ATTACH;FMTTYPE=image/png:https://superpadel.com.br/wp-content/uploads/2023/02/italy.png
END:VEVENT
END:VCALENDAR